Workbook

Sheet INGRESOS CUENTA COLECT
A6: Instituto Nacional del Cáncer Rosa Emilia Sánchez Pérez de Tavares
A7: Balance Inicial: Cta. 9995033000
A8: Libro Banco
A9: Del 01 Al 31 De Diciembre 2024
B12: Cuenta Bancaria No: 010-252753-9
B13: Balance Inicial: Cta. 9995033000 | G13: =+'[1]CTA. RECOLECTORA (010) y 3000'!$G$9358 -> 16465907
G14: 0
B15: Fecha | C15: No. Ck/Transf. | D15: Descripcion | E15: Debito | F15: Credito | G15: Balance
D16: 45626 | E16: ='[2]CTA. RECOLECTORA (010)'!E6 -> 0 | F16: 0 | G16: =+G13 -> 16465907
B17: 45627 | D17: NOTA DEBITO POR COBRO TARJETA CREDITO NOVIEMBRE 2024 | F17: 1208.44 | G17: =G16+E17-F17 -> 16464698
B18: 45627 | D18: DEPOSITO | E18: 435 | G18: =G17+E18-F18 -> 16465133
B19: 45627 | D19: NOTA DEBITO POR COBRO TARJETA CREDITO CARDNET | E19: 9000 | F19: 240.4 | G19: =G18+E19-F19 -> 16473893
B20: 45628 | D20: DEPOSITO | E20: 13660 | G20: =G19+E20-F20 -> 16487553
B21: 45628 | D21: DEPOSITO | E21: 1000 | G21: =G20+E21-F21 -> 16488553
B22: 45628 | D22: DEPOSITO | E22: 25115 | G22: =G21+E22-F22 -> 16513668
B23: 45628 | D23: DEPOSITO | E23: 3866 | G23: =G22+E23-F23 -> 16517534
B24: 45628 | D24: DEPOSITO | E24: 32510 | G24: =G23+E24-F24 -> 16550044
B25: 45628 | D25: DEPOSITO | E25: 12180 | G25: =G24+E25-F25 -> 16562224
B26: 45628 | D26: DEPOSITO | E26: 27890 | G26: =G25+E26-F26 -> 16590114
B27: 45628 | D27: NOTA DEBITO POR COBRO TARJETA CREDITO CARDNET | E27: 107192.53 | F27: 2784.49 | G27: =G26+E27-F27 -> 16694522
B28: 45628 | D28: DEPOSITO VIA TRANSF. ARS SENASA | E28: 1121668.2 | G28: =G27+E28-F28 -> 17816190
B29: 45628 | D29: DEPOSITO VIA TRANSF. ARS SENASA | E29: 5978.22 | G29: =G28+E29-F29 -> 17822168
B30: 45628 | D30: DEPOSITO VIA TRANSF. ARS SENASA | E30: 4917.2 | G30: =G29+E30-F30 -> 17827085
B31: 45628 | D31: DEPOSITO VIA TRANSF. ARS SENASA | E31: 2479947.4 | G31: =G30+E31-F31 -> 20307033
B32: 45628 | D32: Dp via transferencia por laFundación Funpha. , ayuda Martina Soriano Morillo Récord #: 2024/1557 para Abono Ecocardiograma Strain (factura #112820-24 por RD$1,500.00) Paciente pagó RD$1,500.00. Subsidio de Trabajo Social por RD$500.00 | E32: 1500 | G32: =G31+E32-F32 -> 20308533
B33: 45628 | D33: Dp via transferencia donacion GABY'S VARIEDADES FOUNDATION a la Sr.Isabel Mateo Récord #: 2016/2259 - Abono Biopsia Tomodirigida de Pulmón (factura #86278-24 , por el monto de RD$6,600.00 | E33: 6600 | G33: =G32+E33-F33 -> 20315133
B34: 45629 | D34: DEPOSITO | E34: 112 | G34: =G33+E34-F34 -> 20315245
B35: 45629 | D35: DEPOSITO | E35: 778 | G35: =G34+E35-F35 -> 20316023
B36: 45629 | D36: DEPOSITO | E36: 80235 | G36: =G35+E36-F36 -> 20396258
B37: 45629 | D37: DEPOSITO | E37: 34400 | G37: =G36+E37-F37 -> 20430658
B38: 45629 | D38: DEPOSITO | E38: 2900 | G38: =G37+E38-F38 -> 20433558
B39: 45629 | D39: DEPOSITO | E39: 23430 | G39: =G38+E39-F39 -> 20456988
... B42: 45629 | D42: DEPOSITO | E42: 3145 | G42: =G41+E42-F42 -> 20477792
B43: 45629 | D43: NOTA DEBITO POR COBRO TARJETA CREDITO CARDNET | E43: 78130.22 | F43: 2044.7 | G43: =G42+E43-F43 -> 20553877
B44: 45629 | D44: TRANSF. DE CUENTA 3000 A 3001 PARA PAGOS | F44: 2642079 | G44: =G43+E44-F44 -> 17911798
B45: 45630 | D45: DEPOSITO | E45: 29840 | G45: =G44+E45-F45 -> 17941638
B46: 45630 | D46: DEPOSITO | E46: 40 | G46: =G45+E46-F46 -> 17941678
B47: 45630 | D47: DEPOSITO | E47: 2270 | G47: =G46+E47-F47 -> 17943948
B48: 45630 | D48: DEPOSITO | E48: 2245 | G48: =G47+E48-F48 -> 17946193
B49: 45630 | D49: DEPOSITO | E49: 2005 | G49: =G48+E49-F49 -> 17948198
...

Sheet EGRESOS CTA. AUXILIAR 3001
A5: Servicio Nacional de Salud
C6: Instituto Nacional del Cáncer Rosa Emilia Sánchez Pérez de Tavares
C7: Cuenta Colectora Auxiliar no. 99995033001
C8: Libro Banco
C9: Del 01 Al 31 De Diciembre 2024
D11: Cuenta Bancaria No: AUXILIAR NO. 999503001
D12: Balance Inicial: | I12: =+'[1]CTA. RECOLECTORA AUXILIAR 3001'!$J$5613 -> -23132848
D13: Fecha | E13: No. Ck/Transf. | F13: Descripcion | G13: Debito | H13: Credito | I13: Balance
F14: =+'INGRESOS CUENTA COLECT'!D16 -> 45626 | H14: 0 | I14: =+I12 -> -23132848
D15: 45629 | F15: TRANSF. DE CUENTA 3000 A 3001 PARA PAGOS | G15: 2642079 | I15: =I14+G15-H15 -> -20490769
D16: 45629 | E16: 5591-1 | F16: DHL DOMINICANA | H16: 81084.58 | I16: =I15+G16-H16 -> -20571854
D17: 45629 | E17: 5596-1 | F17: RETENCION 0.5% POR TRASF. VIA LIBRAMIENTOS A PROVEERDORES | H17: 34036.5 | I17: =I16+G17-H17 -> -20605890
D18: 45629 | E18: 5596-1 | F18: REFERENCIA LABORATORIO CLINICO | H18: 646693.5 | I18: =I17+G18-H18 -> -21252584
D19: 45629 | E19: 5598-1 | F19: RETENCION 0.5% POR TRASF. VIA LIBRAMIENTOS A PROVEERDORES | H19: 10000 | I19: =I18+G19-H19 -> -21262584
D20: 45629 | E20: 5598-1 | F20: ALIANZA INNOVADORA DE SERVICIOS AMBIENTALES, SRL | H20: 190000 | I20: =I19+G20-H20 -> -21452584
D21: 45630 | F21: TRANSF. DE CUENTA 3000 A 3001 PARA PAGOS | G21: 9445592.1 | I21: =I20+G21-H21 -> -12006992
D22: 45630 | E22: 5608-1 | F22: ALTICE DOMINCANA, S.A. | H22: 54909.18 | I22: =I21+G22-H22 -> -12061901
D23: 45630 | E23: 5606-1 | F23: RETENCION 0.5% POR TRASF. VIA LIBRAMIENTOS A PROVEERDORES | H23: 35293.5 | I23: =I22+G23-H23 -> -12097194
D24: 45630 | E24: 5606-1 | F24: COMPU-OFFICE DOMINICANA, SRL | H24: 797633.1 | I24: =I23+G24-H24 -> -12894828
D25: 45630 | E25: 5610-1 | F25: RETENCION 0.5% POR TRASF. VIA LIBRAMIENTOS A PROVEERDORES | H25: 7635 | I25: =I24+G25-H25 -> -12902463
D26: 45630 | E26: 5610-1 | F26: RETENCION 0.30% POR TRASF. VIA LIBRAMIENTOS A PROVEERDORES | H26: 8245.8 | I26: =I25+G26-H26 -> -12910708
D27: 45630 | E27: 5610-1 | F27: QUIMICOS ESPECIALIZADOS (QUIES) | H27: 164305.2 | I27: =I26+G27-H27 -> -13075014
D28: 45631 | F28: TRANSF. DE CUENTA 3000 A 3001 PARA PAGOS | G28: 1755543.4 | I28: =I27+G28-H28 -> -11319470
D29: 45631 | E29: 5623-1 | F29: COMPAÑÍA DOMINICANA DE TELEFONOS | H29: 1387329.1 | I29: =I28+G29-H29 -> -12706799
D30: 45631 | E30: 5634-1 | F30: RETENCION 0.5% POR TRASF. VIA LIBRAMIENTOS A PROVEERDORES | H30: 64627.5 | I30: =I29+G30-H30 -> -12771427
D31: 45631 | E31: 5634-1 | F31: GRUPO FARMACEUTICO CAR-M, S. R. L. | H31: 1414645.5 | I31: =I30+G31-H31 -> -14186072
D32: 45631 | E32: 5636-1 | F32: RETENCION 0.5% POR TRASF. VIA LIBRAMIENTOS A PROVEERDORES | H32: 93200 | I32: =I31+G32-H32 -> -14279272
D33: 45631 | E33: 5636-1 | F33: GRUPO FARMACEUTICO CAR-M, S. R. L. | H33: 1770800 | I33: =I32+G33-H33 -> -16050072
D34: 45631 | E34: 5639-1 | F34: RETENCION 0.5% POR TRASF. VIA LIBRAMIENTOS A PROVEERDORES | H34: 6660 | I34: =I33+G34-H34 -> -16056732
D35: 45631 | E35: 5639-1 | F35: GRUPO FARMACEUTICO CAR-M, S. R. L. | H35: 126540 | I35: =I34+G35-H35 -> -16183272
D36: 45631 | E36: 5641-1 | F36: RETENCION 0.5% POR TRASF. VIA LIBRAMIENTOS A PROVEERDORES | H36: 3824.72 | I36: =I35+G36-H36 -> -16187097
D37: 45631 | E37: 5641-1 | F37: GRUPO FARMACEUTICO CAR-M, S. R. L. | H37: 72669.68 | I37: =I36+G37-H37 -> -16259767
D38: 45631 | E38: 5645-1 | F38: RETENCION 0.5% POR TRASF. VIA LIBRAMIENTOS A PROVEERDORES | H38: 119328.5 | I38: =I37+G38-H38 -> -16379095
D39: 45631 | E39: 5645-1 | F39: SUIPHAR DOMINICANA, S. R. L. | H39: 2267241.5 | I39: =I38+G39-H39 -> -18646337
D40: 45632 | F40: TRANSF. DE CUENTA 3000 A 3001 PARA PAGOS | G40: 1658778.7 | I40: =I39+G40-H40 -> -16987558
D41: 45632 | E41: 5674-1 | F41: COMPAÑÍA DOMINICANA DE TELEFONOS | H41: 412545.12 | I41: =I40+G41-H41 -> -17400103
D42: 45632 | E42: 5653-1 | F42: RETENCION 0.5% POR TRASF. VIA LIBRAMIENTOS A PROVEERDORES | H42: 1479.3375 | I42: =I41+G42-H42 -> -17401582
D43: 45632 | E43: 5653-1 | F43: SUIPHAR DOMINICANA, S. R. L. | H43: 28107.412 | I43: =I42+G43-H43 -> -17429690
D44: 45632 | E44: 5655-1 | F44: RETENCION 0.5% POR TRASF. VIA LIBRAMIENTOS A PROVEERDORES | H44: 2255.75 | I44: =I43+G44-H44 -> -17431946
D45: 45632 | E45: 5655-1 | F45: BIO-NOVA, S.R.L. | H45: 50241.95 | I45: =I44+G45-H45 -> -17482187
...

Sheet EGRESOS CTA.  OPERT. 160
A5: Servicio Nacional de Salud
C6: Instituto Nacional del Cáncer Rosa Emilia Sánchez Pérez de Tavares
C7: Cuenta Operativa No. 160-112796-8
C8: Libro Banco
C9: Del 01 Al 31 De Diciembre 2024
D10: Cuenta Bancaria No: 160-112796-8
D11: Balance Inicial: | I11: =+'[1]CTA. OPERATIVA.(160)'!$J$1294 -> 81995.753
D12: Fecha | E12: No. Ck/Transf. | F12: Descripcion | G12: Debito | H12: Credito | I12: Balance
F13: =+'INGRESOS CUENTA COLECT'!D16 -> 45626 | H13: 0 | I13: =+I11 -> 81995.753
D14: 45628 | E14: 0058-2024 | F14: DIRECCION GENERAL DE IMPUESTOS INTERNOS | H14: 18860.65 | I14: =I13+G14-H14 -> 63135.103
D15: 45631 | F15: PAGO IMPUESTO 0.15% | H15: 55.72 | I15: =I14+G15-H15 -> 63079.383
D16: 45636 | E16: 0058-2024 | F16: COMISION POR PAGO AL INSTANTE COLECTOR IMPUESTOS INTERNOS 0058-2024 | H16: 80 | I16: =I15+G16-H16 -> 62999.383
D17: 45631 | F17: PAGO IMPUESTO 0.15% | H17: 10.96 | I17: =I16+G17-H17 -> 62988.423
D18: 45645 | E18: 0059-2024 | F18: DIRECCION GENERAL DE IMPUESTOS INTERNOS | H18: 10437.35 | I18: =I17+G18-H18 -> 52551.073
D19: 45649 | F19: PAGO IMPUESTO 0.15% | H19: 10.96 | I19: =I18+G19-H19 -> 52540.113
D20: 45656 | E20: 0059-2024 | F20: COMISION POR PAGO AL INSTANTE COLECTOR IMPUESTOS INTERNOS 0059-2024 | H20: 80 | I20: =I19+G20-H20 -> 52460.113
D21: 45657 | F21: CARGOS POR SERVICIOS (RETENCION DE ESTADO) | H21: 175 | I21: =I20+G21-H21 -> 52285.113
I22: =I21+G22-H22 -> 52285.113
I23: =I22+G23-H23 -> 52285.113
I24: =I23+G24-H24 -> 52285.113
I25: =I24+G25-H25 -> 52285.113
I26: =I25+G26-H26 -> 52285.113
I27: =I26+G27-H27 -> 52285.113
I28: =I27+G28-H28 -> 52285.113
I29: =I28+G29-H29 -> 52285.113
I30: =I29+G30-H30 -> 52285.113
I31: =I30+G31-H31 -> 52285.113
I32: =I31+G32-H32 -> 52285.113
I33: =I32+G33-H33 -> 52285.113
... I65: =I64+G65-H65 -> 52285.113
C66: Totales | G66: =SUM(G14:G65) -> 0 | H66: =SUM(H14:H65) -> 29710.64 | I66: =+I13+G66-H66 -> 52285.113 | J66: =+I66-'[1]CTA. OPERATIVA.(160)'!$J$1302 -> 0
D71: ____________________ | H71: _________________________
D72: Preparado Por: | F72: ______________________________ | H72: Aprobabdo Por:
D73: Lcda. Julia Villar Pimentel | F73: Revisado Por: | H73: Lcda. Sandra Ciprian
D74: Analista Financiera | F74: Lic. Jose Ml. Padilla Lopez Encargado Dpto. Contabilidad | H74: Encargada Dpto. Finanzas

Sheet EGRESOS CTA. NOMINA
A6: Servicio Nacional de Salud
D7: Instituto Nacional del Cáncer Rosa Emilia Sánchez Pérez de Tavares
D8: Cuenta Bancaria No: 0100202000
D9: Libro Banco
D10: Del 01 Al 31 De Diciembre 2024
E11: Cuenta Bancaria No: 0100202000
E12: Balance Inicial: | J12: =+'[1]CTA. NOMINA 2000'!$G$1329 -> 33957201
E13: Fecha | F13: No. Ck/Transf. | G13: Descripcion | H13: Debito | I13: Credito | J13: Balance
G14: =+'INGRESOS CUENTA COLECT'!D16 -> 45626 | I14: 0 | J14: =+J12 -> 33957201
E15: 45629 | G15: ASIGANCION CUOTA DE PAGO DESDE CTA 2000 A 2001 | H15: 826421.73 | J15: =J14+H15-I15 -> 34783622
E16: 45629 | G16: ASIGANCION CUOTA DE PAGO DESDE CTA 2000 A 2001 | I16: 826421.73 | J16: =J15+H16-I16 -> 33957201
E17: 45631 | G17: ASIGANCION CUOTA DE PAGO DESDE CTA 2000 A 2001 | H17: 179872 | J17: =J16+H17-I17 -> 34137073
E18: 45631 | G18: ASIGANCION CUOTA DE PAGO DESDE CTA 2000 A 2001 | I18: 179872 | J18: =J17+H18-I18 -> 33957201
E19: 45635 | G19: ASIGANCION CUOTA DE PAGO DESDE CTA 2000 A 2001 | H19: 483431.43 | J19: =J18+H19-I19 -> 34440632
E20: 45635 | G20: ASIGANCION CUOTA DE PAGO DESDE CTA 2000 A 2001 | I20: 483431.43 | J20: =J19+H20-I20 -> 33957201
E21: 45635 | F21: 5709-1 | G21: RETENCION 0.5% POR TRASF. VIA LIBRAMIENTOS A PROVEERDORES | I21: 12000 | J21: =J20+H21-I21 -> 33945201
E22: 45635 | F22: 5709-1 | G22: SEVEN PHARMA D.R, S.R.L. | I22: 228000 | J22: =J21+H22-I22 -> 33717201
E23: 45636 | G23: ASIGNACION PRESUPUESTARIA PARA PAGO MEDICAMENTOS | H23: 1010358.8 | J23: =J22+H23-I23 -> 34727559
E24: 45636 | G24: ASIGNACION PRESUPUESTARIA PARA PAGO NOMINAS | H24: 57246390 | J24: =J23+H24-I24 -> 91973950
E25: 45637 | G25: ASIGANCION CUOTA DE PAGO DESDE CTA 2000 A 2001 | H25: 826421.73 | J25: =J24+H25-I25 -> 92800372
E26: 45637 | G26: ASIGANCION CUOTA DE PAGO DESDE CTA 2000 A 2001 | I26: 826421.73 | J26: =J25+H26-I26 -> 91973950
E27: 45638 | G27: ASIGANCION CUOTA DE PAGO DESDE CTA 2000 A 2001 | H27: 179872 | J27: =J26+H27-I27 -> 92153822
E28: 45638 | G28: ASIGANCION CUOTA DE PAGO DESDE CTA 2000 A 2001 | I28: 179872 | J28: =J27+H28-I28 -> 91973950
E29: 45638 | F29: 5755-1 | G29: RETENCION 0.5% POR TRASF. VIA LIBRAMIENTOS A PROVEERDORES | I29: 2430 | J29: =J28+H29-I29 -> 91971520
E30: 45638 | F30: 5755-1 | G30: EPX DOMINICANA, S.R.L. | I30: 54918 | J30: =J29+H30-I30 -> 91916602
E31: 45638 | F31: 5774-1 | G31: RETENCION 0.5% POR TRASF. VIA LIBRAMIENTOS A PROVEERDORES | I31: 4503 | J31: =J30+H31-I31 -> 91912099
E32: 45638 | F32: 5774-1 | G32: HOSPIFAR, S. R. L. | I32: 101767.8 | J32: =J31+H32-I32 -> 91810331
E33: 45638 | F33: 5781-1 | G33: RETENCION 0.5% POR TRASF. VIA LIBRAMIENTOS A PROVEERDORES | I33: 5950 | J33: =J32+H33-I33 -> 91804381
E34: 45638 | F34: 5781-1 | G34: CRISTALIA DOMINICANA SRL | I34: 113050 | J34: =J33+H34-I34 -> 91691331
E35: 45638 | F35: 5783-1 | G35: RETENCION 0.5% POR TRASF. VIA LIBRAMIENTOS A PROVEERDORES | I35: 2975 | J35: =J34+H35-I35 -> 91688356
E36: 45638 | F36: 5783-1 | G36: CRISTALIA DOMINICANA SRL | I36: 56525 | J36: =J35+H36-I36 -> 91631831
E37: 45639 | F37: 5828-1 | G37: RETENCION 0.5% POR TRASF. VIA LIBRAMIENTOS A PROVEERDORES | I37: 24390.59 | J37: =J36+H37-I37 -> 91607440
E38: 45639 | F38: 5828-1 | G38: SILVER PHARMA, S.R.L. | I38: 463421.21 | J38: =J37+H38-I38 -> 91144019
E39: 45639 | F39: 5830-1 | G39: RETENCION 0.5% POR TRASF. VIA LIBRAMIENTOS A PROVEERDORES | I39: 9652 | J39: =J38+H39-I39 -> 91134367
E40: 45639 | F40: 5830-1 | G40: SILVER PHARMA, S.R.L. | I40: 183388 | J40: =J39+H40-I40 -> 90950979
... E64: 45642 | F64: 5898-1 | G64: BIO-NUCLEAR, S. A. | I64: 1694835.7 | J64: =J63+H64-I64 -> 62261914
E65: 45643 | G65: ASIGANCION CUOTA DE PAGO DESDE CTA 2000 A 2001 | H65: 36882393 | J65: =J64+H65-I65 -> 99144307
E66: 45643 | G66: ASIGANCION CUOTA DE PAGO DESDE CTA 2000 A 2001 | I66: 36882393 | J66: =J65+H66-I66 -> 62261914
E67: 45643 | F67: 5943-1 | G67: RETENCION 0.5% POR TRASF. VIA LIBRAMIENTOS A PROVEERDORES | I67: 28750 | J67: =J66+H67-I67 -> 62233164
E68: 45643 | F68: 5943-1 | G68: RETENCION 0.30% POR TRASF. VIA LIBRAMIENTOS A PROVEERDORES | I68: 31050 | J68: =J67+H68-I68 -> 62202114
...

Sheet EGRESOS CTA. FONDOCYT
A6: Servicio Nacional de Salud
D8: Instituto Nacional del Cáncer Rosa Emilia Sánchez Pérez de Tavares
D9: Cuenta Bancaria No: 9602576155
D10: Libro Banco
D11: Del 01 Al 31 De Diciembre 2024
E14: Cuenta Bancaria No: 9602576155
E15: - | J15: =+'[1]CTA. FONDOCYT 960'!$J$88 -> 1759930.8
E16: Fecha | F16: No. Ck/Transf. | G16: Descripcion | H16: Debito | I16: Credito | J16: Balance
G17: =+'INGRESOS CUENTA COLECT'!D16 -> 45626 | I17: 0 | J17: =+J15 -> 1759930.8
E18: 45657 | G18: CARGOS POR SERVICIOS (RETENCION DE ESTADO) | I18: 175 | J18: =J14+H18-I18 -> -175
J19: =J18+H19-I19 -> -175
D20: Totales | H20: =SUM(H18:H19) -> 0 | I20: =SUM(I18:I19) -> 175 | J20: =+J15+H20-I20 -> 1759755.8 | K20: =+J20-'[1]CTA. FONDOCYT 960'!$J$89 -> 0
E23: ____________________ | G23: ______________________________ | I23: _________________________
E24: Preparado Por: | G24: Revisado Por: | I24: Aprobabdo Por:
E25: Lcda. Julia Villar Pimentel | G25: Lic. Jose Ml. Padilla Lopez Encargado Dpto. Contabilidad | I25: Lcda. Sandra Ciprian
E26: Analista Financiera | I26: Encargada Dpto. Finanzas

Sheet  CTA. ONCOPEDIATRIA
A6: Servicio Nacional de Salud
D7: Instituto Nacional del Cáncer Rosa Emilia Sánchez Pérez de Tavares
D8: CENTRO ONCOPEDIATRIA Cuenta Bancaria NO. 04002002000
D9: Libro Banco
D10: Del 01 Al 31 De Diciembre 2024
E11: Cuenta Bancaria No: 0100202000
E12: Balance Inicial: | J12: =+'[1]CTA. 2000 ONCO'!$G$10 -> 480606.4
E13: Fecha | F13: No. Ck/Transf. | G13: Descripcion | H13: Debito | I13: Credito | J13: Balance
G14: =+'INGRESOS CUENTA COLECT'!D16 -> 45626 | I14: 0 | J14: =+J12 -> 480606.4
E15: 45645 | G15: Deposito Via cheque # 002747 Coliseo Gallistico De Santo Domingo, Inc. (Alberto Bonetti Burgos) Donacion para la unidad Oncopediatrica del Incart por el monto de RD$500,000.00 | H15: 500000 | J15: =J14+H15-I15 -> 980606.4
J16: =J15+H16-I16 -> 980606.4
J17: =J16+H17-I17 -> 980606.4
J18: =J17+H18-I18 -> 980606.4
J19: =J18+H19-I19 -> 980606.4
J20: =J19+H20-I20 -> 980606.4
J21: =J20+H21-I21 -> 980606.4
J22: =J21+H22-I22 -> 980606.4
J23: =J22+H23-I23 -> 980606.4
J24: =J23+H24-I24 -> 980606.4
J25: =J24+H25-I25 -> 980606.4
J26: =J25+H26-I26 -> 980606.4
J27: =J26+H27-I27 -> 980606.4
... J62: =J61+H62-I62 -> 980606.4
D63: Totales | H63: =SUM(H15:H62) -> 500000 | I63: =SUM(I15:I62) -> 0 | J63: =+J14+H63-I63 -> 980606.4 | K63: =+J63-'[1]CTA. 2000 ONCO'!$G$11 -> 0
E69: ____________________ | G69: ______________________________ | I69: _________________________
E70: Preparado Por: | G70: Revisado Por: | I70: Aprobabdo Por:
E71: Lcda. Julia Villar Pimentel | G71: Lic. Jose Ml. Padilla Lopez Encargado Dpto. Contabilidad | I71: Lcda. Sandra Ciprian
E72: Analista Financiera | I72: Encargada Dpto. Finanzas
