Workbook

Sheet INGRESOS CUENTA COLECT
A6: Instituto Nacional del Cáncer Rosa Emilia Sánchez Pérez de Tavares
A7: Balance Inicial: Cta. 9995033000
A8: Libro Banco
A9: Del 01 Al 31 De Marzo 2025
B13: Cuenta Bancaria No: 010-252753-9
B14: Balance Inicial: Cta. 9995033000 | G14: =+'[1]CTA. RECOLECTORA (010) y 3000'!$G$10233 -> 57554737
G15: 0
B16: Fecha | C16: No. Ck/Transf. | D16: Descripcion | E16: Debito | F16: Credito | G16: Balance
D17: 45716 | E17: ='[2]CTA. RECOLECTORA (010)'!E6 -> 0 | F17: 0 | G17: =+G14 -> 57554737
B18: 45717 | D18: NOTA DEBITO POR COBRO TARJETA CREDITO FEBRERO 2025 | F18: 2381.15 | G18: =G17+E18-F18 -> 57552356
B19: 45717 | D19: DEPOSITO | E19: 10500 | G19: =G18+E19-F19 -> 57562856
B20: 45717 | D20: NOTA DEBITO POR COBRO TARJETA CREDITO CARDNET | E20: 7943 | F20: 198.58 | G20: =G19+E20-F20 -> 57570601
B21: 45718 | D21: DEPOSITO | E21: 37000 | G21: =G20+E21-F21 -> 57607601
B22: 45718 | D22: NOTA DEBITO POR COBRO TARJETA CREDITO CARDNET | E22: 4500 | F22: 122.4 | G22: =G21+E22-F22 -> 57611978
B23: 45719 | D23: DEPOSITO | E23: 91220 | G23: =G22+E23-F23 -> 57703198
B24: 45719 | D24: DEPOSITO | E24: 69087 | G24: =G23+E24-F24 -> 57772285
B25: 45719 | D25: DEPOSITO | E25: 26800 | G25: =G24+E25-F25 -> 57799085
B26: 45719 | D26: DEPOSITO | E26: 16415 | G26: =G25+E26-F26 -> 57815500
B27: 45719 | D27: DEPOSITO | E27: 15941 | G27: =G26+E27-F27 -> 57831441
B28: 45719 | D28: DEPOSITO | E28: 2500 | G28: =G27+E28-F28 -> 57833941
B29: 45719 | D29: DEPOSITO | E29: 1850 | G29: =G28+E29-F29 -> 57835791
B30: 45719 | D30: NOTA DEBITO POR COBRO TARJETA CREDITO CARDNET | E30: 70483.37 | F30: 1814.39 | G30: =G29+E30-F30 -> 57904460
B31: 45719 | D31: DEPOSITO VIA TRANSF. ARS SENASA | E31: 214370.4 | G31: =G30+E31-F31 -> 58118831
B32: 45719 | D32: DEPOSITO VIA TRANSF. ARS SENASA | E32: 308017.5 | G32: =G31+E32-F32 -> 58426848
B33: 45719 | D33: DEPOSITO VIA TRANSF. ARS SENASA | E33: 6139 | G33: =G32+E33-F33 -> 58432987
B34: 45719 | D34: DEPOSITO VIA TRANSF. ARS SENASA | E34: 1640827.4 | G34: =G33+E34-F34 -> 60073814
B35: 45719 | D35: DEPOSITO VIA TRANSF. ARS SENASA | E35: 1011504.4 | G35: =G34+E35-F35 -> 61085319
B36: 45719 | D36: DEPOSITO VIA TRANSF. ARS SENASA | E36: 601402.5 | G36: =G35+E36-F36 -> 61686721
B37: 45719 | D37: DEPOSITO VIA TRANSF. ARS SENASA | E37: 7302944.3 | G37: =G36+E37-F37 -> 68989666
B38: 45719 | D38: DEPOSITO VIA TRANSF. ARS SENASA | E38: 879805.08 | G38: =G37+E38-F38 -> 69869471
B39: 45719 | D39: DEPOSITO VIA TRANSF. ARS SENASA | E39: 115684.46 | G39: =G38+E39-F39 -> 69985155
B40: 45719 | D40: DEPOSITO VIA TRANSF. ARS SENASA | E40: 175578.11 | G40: =G39+E40-F40 -> 70160733
B41: 45719 | D41: DEPOSITO VIA TRANSF. ARS SENASA | E41: 1079777.4 | G41: =G40+E41-F41 -> 71240511
B42: 45719 | D42: DEPOSITO VIA TRANSF. ARS SENASA | E42: 57681 | G42: =G41+E42-F42 -> 71298192
... B51: 45720 | D51: DEPOSITO | E51: 2656 | G51: =G50+E51-F51 -> 71603930
B52: 45720 | D52: NOTA DEBITO POR COBRO TARJETA CREDITO CARDNET | E52: 52018.2 | F52: 1381.3 | G52: =G51+E52-F52 -> 71654567
B53: 45721 | D53: DEPOSITO | E53: 62680 | G53: =G52+E53-F53 -> 71717247
B54: 45721 | D54: DEPOSITO | E54: 190 | G54: =G53+E54-F54 -> 71717437
B55: 45721 | D55: DEPOSITO | E55: 37076 | G55: =G54+E55-F55 -> 71754513
B56: 45721 | D56: DEPOSITO | E56: 2900 | G56: =G55+E56-F56 -> 71757413
...

Sheet EGRESOS CTA. AUXILIAR 3001
A5: Servicio Nacional de Salud
C6: Instituto Nacional del Cáncer Rosa Emilia Sánchez Pérez de Tavares
C7: Cuenta Colectora Auxiliar no. 99995033001
C8: Libro Banco
C9: Del 01 Al 31 De Marzo 2025
D11: Cuenta Bancaria No: AUXILIAR NO. 9995033001
D12: Balance Inicial: | I12: =+'[1]CTA. RECOLECTORA AUXILIAR 3001'!$J$5894 -> -35645933
D13: Fecha | E13: No. Ck/Transf. | F13: Descripcion | G13: Debito | H13: Credito | I13: Balance
F14: =+'INGRESOS CUENTA COLECT'!D17 -> 45716 | H14: 0 | I14: =+I12 -> -35645933
D15: 45719 | E15: 935-1 | F15: RETENCION 0.5% POR TRASF. VIA LIBRAMIENTOS A PROVEERDORES | H15: 74768.69 | I15: =I14+G15-H15 -> -35720702
D16: 45719 | E16: 935-1 | F16: GTG INDUSTRIAL, S. R. L. | H16: 1689772.3 | I16: =I15+G16-H16 -> -37410474
D17: 45719 | E17: 957-1 | F17: RETENCION 0.5% POR TRASF. VIA LIBRAMIENTOS A PROVEERDORES | H17: 18871 | I17: =I16+G17-H17 -> -37429345
D18: 45719 | E18: 957-1 | F18: GTG INDUSTRIAL, S. R. L. | H18: 426484.6 | I18: =I17+G18-H18 -> -37855830
D19: 45719 | E19: 961-1 | F19: RETENCION 0.5% POR TRASF. VIA LIBRAMIENTOS A PROVEERDORES | H19: 3775.25 | I19: =I18+G19-H19 -> -37859605
D20: 45719 | E20: 961-1 | F20: GTG INDUSTRIAL, S. R. L. | H20: 85320.65 | I20: =I19+G20-H20 -> -37944926
D21: 45721 | E21: 1007-1 | F21: INSTITUTO TECNOLOGICO DE SANTO DOMINGO, INTEC | H21: 64430 | I21: =I20+G21-H21 -> -38009356
D22: 45722 | E22: 1014-1 | F22: RETENCION 0.5% POR TRASF. VIA LIBRAMIENTOS A PROVEERDORES | H22: 9288.5 | I22: =I21+G22-H22 -> -38018644
D23: 45722 | E23: 1014-1 | F23: GTG INDUSTRIAL, S. R. L. | H23: 209920.1 | I23: =I22+G23-H23 -> -38228564
D24: 45722 | E24: 1012-1 | F24: DHL DOMINICANA, S.A. | H24: 84817.26 | I24: =I23+G24-H24 -> -38313382
D25: 45722 | E25: 1016-1 | F25: PHARMACEUTICAL TECHNOLOGY, S. A. | H25: 3870000 | I25: =I24+G25-H25 -> -42183382
D26: 45723 | F26: TRANSF. DE CUENTA 3000 A 3001 PARA PAGOS | G26: 4842640.9 | I26: =I25+G26-H26 -> -37340741
D27: 45723 | E27: 1033-1 | F27: RETENCION 0.5% POR TRASF. VIA LIBRAMIENTOS A PROVEERDORES | H27: 3157.5 | I27: =I26+G27-H27 -> -37343898
D28: 45723 | E28: 1033-1 | F28: MITCH MART, S.R.L. | H28: 71359.5 | I28: =I27+G28-H28 -> -37415258
D29: 45725 | E29: 1051-1 | F29: RETENCION 0.5% POR TRASF. VIA LIBRAMIENTOS A PROVEERDORES | H29: 2144 | I29: =I28+G29-H29 -> -37417402
D30: 45725 | E30: 1051-1 | F30: PROVEDEX DR, S.R.L. | H30: 40736 | I30: =I29+G30-H30 -> -37458138
D31: 45725 | E31: 1053-1 | F31: RETENCION 0.5% POR TRASF. VIA LIBRAMIENTOS A PROVEERDORES | H31: 1705 | I31: =I30+G31-H31 -> -37459843
D32: 45725 | E32: 1053-1 | F32: LUFISA COMERCIAL, S.R.L. | H32: 32395 | I32: =I31+G32-H32 -> -37492238
D33: 45725 | E33: 1055-1 | F33: RETENCION 0.5% POR TRASF. VIA LIBRAMIENTOS A PROVEERDORES | H33: 4088.5 | I33: =I32+G33-H33 -> -37496326
D34: 45725 | E34: 1055-1 | F34: INVERSIONES ND & ASOCIADOS, S.R.L. | H34: 77681.5 | I34: =I33+G34-H34 -> -37574008
D35: 45726 | F35: TRANSF. DE CUENTA 3000 A 3001 PARA PAGOS | G35: 15098575 | I35: =I34+G35-H35 -> -22475433
D36: 45726 | E36: 1074-1 | F36: HUMANO SEGUROS, S.A. | H36: 309724.1 | I36: =I35+G36-H36 -> -22785157
D37: 45726 | E37: 1078-1 | F37: MAPFRE SALUD ARS, S.A. | H37: 72750.15 | I37: =I36+G37-H37 -> -22857907
D38: 45726 | E38: 1082-1 | F38: SEGURO NACIONAL DE SALUD (SENASA) | H38: 266628.11 | I38: =I37+G38-H38 -> -23124535
D39: 45726 | E39: 1087-1 | F39: SEGUROS SURA, S.A. | H39: 131660.95 | I39: =I38+G39-H39 -> -23256196
D40: 45726 | E40: 1089-1 | F40: RETENCION 0.5% POR TRASF. VIA LIBRAMIENTOS A PROVEERDORES | H40: 20000 | I40: =I39+G40-H40 -> -23276196
D41: 45726 | E41: 1089-1 | F41: RADIONCOL SERVICIOS MEDICOS, S. R. L. | H41: 380000 | I41: =I40+G41-H41 -> -23656196
D42: 45727 | F42: TRANSF. DE CUENTA 3000 A 3001 PARA PAGOS | G42: 1822424 | I42: =I41+G42-H42 -> -21833772
D43: 45727 | E43: 1120-1 | F43: DOCTORES MALLEN GUERRA, S. A. | H43: 558000 | I43: =I42+G43-H43 -> -22391772
D44: 45727 | E44: 1122-1 | F44: DOCTORES MALLEN GUERRA, S. A. | H44: 912000 | I44: =I43+G44-H44 -> -23303772
D45: 45727 | E45: 1124-1 | F45: RETENCION 0.5% POR TRASF. VIA LIBRAMIENTOS A PROVEERDORES | H45: 32755.783 | I45: =I44+G45-H45 -> -23336528
...

Sheet EGRESOS CTA.  OPERT. 160
A5: Servicio Nacional de Salud
C6: Instituto Nacional del Cáncer Rosa Emilia Sánchez Pérez de Tavares
C7: Cuenta Operativa No. 160-112796-8
C8: Libro Banco
C9: Del 01 Al 31 De Marzo 2025
D12: Cuenta Bancaria No: 160-112796-8
D13: Balance Inicial: | I13: =+'[1]CTA. OPERATIVA.(160)'!$J$1343 -> 749952.86
D14: Fecha | E14: No. Ck/Transf. | F14: Descripcion | G14: Debito | H14: Credito | I14: Balance
F15: =+'INGRESOS CUENTA COLECT'!D17 -> 45716 | H15: 0 | I15: =+I13 -> 749952.86
D16: 06/03/205 | E16: 2353 | F16: REINTEGRO CK. 2353, BENEFICIARIOMARTIN ARACENA POR FECHA DE VENCIMIENTO | G16: 26600 | I16: =I15+G16-H16 -> 776552.86
D17: 06/03/205 | E17: 2370 | F17: REINTEGRO CK. 2370, BENEFICIARIO MCONFESORA RODRIGUEZ RODRIGUEZ POR FECHA DE VENCIMIENTO | G17: 2060.16 | I17: =I16+G17-H17 -> 778613.02
D18: 06/03/205 | E18: 2434 | F18: IHARA CRISTI LOW FERNANDEZ BAUTISTA | H18: 28800 | I18: =I17+G18-H18 -> 749813.02
D19: 06/03/205 | E19: 2432 | F19: REINTEGRO CK. 2432, BENEFICIARIO JOSEFINA FABIAN SARANTE POR FALLECIMIENTO BENEFICIARIO | G19: 19356 | I19: =I18+G19-H19 -> 769169.02
D20: 45726 | F20: PAGO IMPUESTO 0.15% | H20: 24.89 | I20: =I19+G20-H20 -> 769144.13
D21: 45727 | F21: PAGO IMPUESTO 0.15% | H21: 24.24 | I21: =I20+G21-H21 -> 769119.89
D22: 45729 | F22: PAGO IMPUESTO 0.15% | H22: 14.61 | I22: =I21+G22-H22 -> 769105.28
D23: 45730 | F23: PAGO IMPUESTO 0.15% | H23: 15 | I23: =I22+G23-H23 -> 769090.28
D24: 45733 | F24: PAGO IMPUESTO 0.15% | H24: 7.5 | I24: =I23+G24-H24 -> 769082.78
D25: 45734 | F25: PAGO IMPUESTO 0.15% | H25: 124.95 | I25: =I24+G25-H25 -> 768957.83
D26: 45736 | F26: PAGO IMPUESTO 0.15% | H26: 31.14 | I26: =I25+G26-H26 -> 768926.69
D27: 45736 | E27: 2435 | F27: IHARA CRISTI LOW FERNANDEZ BAUTISTA | H27: 32400 | I27: =I26+G27-H27 -> 736526.69
D28: 45736 | E28: 2436 | F28: JOHANNY CAROLINA CONTRERAS GONZALEZ | H28: 3600 | I28: =I27+G28-H28 -> 732926.69
D29: 45741 | F29: PAGO IMPUESTO 0.15% | H29: 24.89 | I29: =I28+G29-H29 -> 732901.8
D30: 45736 | E30: 2437 | F30: MARIA GRECIA GARCIA DE DURAN | H30: 37215.82 | I30: =I29+G30-H30 -> 695685.98
D31: 45736 | E31: 0003-2025 | F31: COMISION NACIONAL DE ENERGIA | H31: 12000 | I31: =I30+G31-H31 -> 683685.98
D32: 45747 | F32: PAGO IMPUESTO 0.15% | H32: 18 | I32: =I31+G32-H32 -> 683667.98
D33: 45747 | F33: CARGOS POR SERVICIOS (RETENCION DE ESTADO) | H33: 175 | I33: =I32+G33-H33 -> 683492.98
I34: =I33+G34-H34 -> 683492.98
I35: =I34+G35-H35 -> 683492.98
I36: =I35+G36-H36 -> 683492.98
I37: =I36+G37-H37 -> 683492.98
I38: =I37+G38-H38 -> 683492.98
I39: =I38+G39-H39 -> 683492.98
I40: =I39+G40-H40 -> 683492.98
I41: =I40+G41-H41 -> 683492.98
I42: =I41+G42-H42 -> 683492.98
I43: =I42+G43-H43 -> 683492.98
I44: =I43+G44-H44 -> 683492.98
I45: =I44+G45-H45 -> 683492.98
... I75: =I74+G75-H75 -> 683492.98
...

Sheet EGRESOS CTA. NOMINA
A6: Servicio Nacional de Salud
D8: Instituto Nacional del Cáncer Rosa Emilia Sánchez Pérez de Tavares
D9: Cuenta Bancaria No: 0100202000
D10: Libro Banco
D11: Del 01 Al 31 De Marzo 2025
E13: Cuenta Bancaria No: 0100202000
E14: Balance Inicial: | J14: =+'[1]CTA. NOMINA 2000'!$G$1531 -> 85342967
E15: Fecha | F15: No. Ck/Transf. | G15: Descripcion | H15: Debito | I15: Credito | J15: Balance
G16: =+'INGRESOS CUENTA COLECT'!D17 -> 45716 | I16: 0 | J16: =+J14 -> 85342967
E17: 45720 | G17: REINTEGRO MONTO PRESTACIONES DESVINCULACION Y PROPORCION DE VACACIONES NO DISFRUTADAS A EX COLABORADORES | H17: 635106.74 | J17: =J16+H17-I17 -> 85978074
E18: 45722 | G18: ASIGANCION CUOTA DE PAGO DESDE CTA 2000 A 2001 | H18: 24789.76 | J18: =J17+H18-I18 -> 86002863
E19: 45722 | G19: ASIGANCION CUOTA DE PAGO DESDE CTA 2000 A 2001 | I19: 24789.76 | J19: =J18+H19-I19 -> 85978074
E20: 45723 | F20: 993-1 | G20: NOMINA REITEGRO DE PERSONAL FIJO FEBRERO 2025 FG | I20: 24789.76 | J20: =J19+H20-I20 -> 85953284
E21: 45726 | F21: 1091-1 | G21: AYUNTAMIENTO DISTRITO NACIONAL (ADN) | I21: 31200 | J21: =J20+H21-I21 -> 85922084
E22: 45726 | F22: 1094-1 | G22: CORPORACION DEL ACUEDUCTO Y ALCANTARILLADO DE SANTO DOMINGO, CAASD | I22: 188352 | J22: =J21+H22-I22 -> 85733732
E23: 45726 | F23: 1096-1 | G23: ALTICE DOMINICANA, S.A. | I23: 17952.31 | J23: =J22+H23-I23 -> 85715779
E24: 45726 | F24: 1098-1 | G24: COMPAÑÍA DOMINICANA DE TELEFONOS | I24: 462793.31 | J24: =J23+H24-I24 -> 85252986
E25: 45726 | F25: 1102-1 | G25: DISTRIBUIDORES INTERNACIONALES DE PETROLEO, S.A. | I25: 328600 | J25: =J24+H25-I25 -> 84924386
E26: 45733 | G26: ASIGNACION PRESUPUESTARIA PARA PAGO NOMINAS | H26: 57989800 | J26: =J25+H26-I26 -> 1.4291419e+08
E27: 45733 | G27: ASIGNACION PRESUPUESTARIA PARA GASTOS | H27: 1010358.8 | J27: =J26+H27-I27 -> 1.4392455e+08
E28: 45733 | G28: ACUERDO AUMENTO DE LOS MEDICOS FBRERO-25 | H28: 3502478.9 | J28: =J27+H28-I28 -> 1.4742702e+08
E29: 45733 | G29: DEPOSITO VIA TRANSF. PRESIDENCIA DE LA REPUBLICA DOMINICANA RD$389,240.00 por el Programa supérate, por concepto de Pago Fact. B1500019296 ayuda humanitaria para cubrir gastos medicos A la señora Rafaela Sanchez de los Santos, sgun oficio #4349 fecha 25/02/25 | H29: 389240 | J29: =J28+H29-I29 -> 1.4781626e+08
E30: 45734 | G30: ASIGANCION CUOTA DE PAGO DESDE CTA 2000 A 2001 | H30: 38985456 | J30: =J29+H30-I30 -> 1.8680172e+08
E31: 45734 | G31: ASIGANCION CUOTA DE PAGO DESDE CTA 2000 A 2001 | I31: 38985456 | J31: =J30+H31-I31 -> 1.4781626e+08
E32: 45735 | G32: ASIGANCION CUOTA DE PAGO DESDE CTA 2000 A 2001 | H32: 1458440.2 | J32: =J31+H32-I32 -> 1.492747e+08
E33: 45735 | G33: ASIGANCION CUOTA DE PAGO DESDE CTA 2000 A 2001 | I33: 1458440.2 | J33: =J32+H33-I33 -> 1.4781626e+08
E34: 45736 | G34: ASIGANCION CUOTA DE PAGO DESDE CTA 2000 A 2001 | H34: 15665369 | J34: =J33+H34-I34 -> 1.6348163e+08
E35: 45736 | G35: ASIGANCION CUOTA DE PAGO DESDE CTA 2000 A 2001 | I35: 15665369 | J35: =J34+H35-I35 -> 1.4781626e+08
E36: 45736 | F36: 1298-1 | G36: RETENCION ISR SALARIAL POR TRASF. VIA LIBRAMIENTOS NOMINA | I36: 2297.25 | J36: =J35+H36-I36 -> 1.4781397e+08
E37: 45736 | F37: 1298-1 | G37: NOMINA COMPENSACION MIILITAR MARZO 2025, FONDO GENERAL | I37: 97702.75 | J37: =J36+H37-I37 -> 1.4771626e+08
E38: 45736 | F38: 1300-1 | G38: RETENCION ISR SALARIAL POR TRASF. VIA LIBRAMIENTOS NOMINA | I38: 11646.4 | J38: =J37+H38-I38 -> 1.4770462e+08
E39: 45736 | F39: 1300-1 | G39: NOMINA COMPENSACION ESPECIAL MARZO 2025 FONDO GENERAL | I39: 104817.57 | J39: =J38+H39-I39 -> 1.475998e+08
E40: 45736 | F40: 1302-1 | G40: RETENCION ISR SALARIAL POR TRASF. VIA LIBRAMIENTOS NOMINA | I40: 17794.75 | J40: =J39+H40-I40 -> 1.4758201e+08
E41: 45736 | F41: 1302-1 | G41: NOMINA PERSONAL CARÁCTER TEMPORAL (CICLOTRON)MARZO 2025 FONDO GENERAL | I41: 236032.17 | J41: =J40+H41-I41 -> 1.4734597e+08
E42: 45736 | F42: 1304-1 | G42: RETENCION ISR SALARIAL POR TRASF. VIA LIBRAMIENTOS NOMINA | I42: 40274.12 | J42: =J41+H42-I42 -> 1.473057e+08
E43: 45736 | F43: 1304-1 | G43: NOMINA PERSONAL CARÁCTER EVENTUAL EXTRANJEROS MARZO 2025 FG | I43: 310149.72 | J43: =J42+H43-I43 -> 1.4699555e+08
E44: 45736 | F44: 1306-1 | G44: RETENCION ISR SALARIAL POR TRASF. VIA LIBRAMIENTOS NOMINA | I44: 39872.55 | J44: =J43+H44-I44 -> 1.4695568e+08
E45: 45736 | F45: 1306-1 | G45: NOMINA PERSONAL CARÁCTER SUPLENCIA MARZO 2025 FG | I45: 358852.97 | J45: =J44+H45-I45 -> 1.4659682e+08
E46: 45736 | F46: 1310-1 | G46: RETENCION ISR SALARIAL POR TRASF. VIA LIBRAMIENTOS NOMINA | I46: 1805521.1 | J46: =J45+H46-I46 -> 1.447913e+08
E47: 45736 | F47: 1310-1 | G47: NOMINA PERSONAL CARÁCTER TEMPORAL MARZO 2025 FONDO GENERAL | I47: 34529814 | J47: =J46+H47-I47 -> 1.1026149e+08
...

Sheet EGRESOS CTA. FONDOCYT
A6: Servicio Nacional de Salud
D8: Instituto Nacional del Cáncer Rosa Emilia Sánchez Pérez de Tavares
D9: Cuenta Bancaria No: 9602576155
D10: Libro Banco
D11: Del 01 Al 31 De Marzo 2025
E14: Cuenta Bancaria No: 9602576155
E15: - | J15: =+'[1]CTA. FONDOCYT 960'!$J$92 -> 1195020.3
E16: Fecha | F16: No. Ck/Transf. | G16: Descripcion | H16: Debito | I16: Credito | J16: Balance
G17: =+'INGRESOS CUENTA COLECT'!D17 -> 45716 | I17: 0 | J17: =+J15 -> 1195020.3
J18: =J17+H18-I18 -> 1195020.3
E19: 45747 | G19: CARGOS POR SERVICIOS (RETENCION DE ESTADO) | I19: 175 | J19: =J18+H19-I19 -> 1194845.3
D20: Totales | H20: 0 | I20: =SUM(I18:I19) -> 175 | J20: =+J15+H20-I20 -> 1194845.3 | K20: =+J20-'[1]CTA. FONDOCYT 960'!$J$93 -> 0
E25: ____________________ | G25: ______________________________ | I25: _________________________
E26: Preparado Por: | G26: Revisado Por: | I26: Aprobabdo Por:
E27: Lcda. Julia Villar Pimentel | G27: Lic. Jose Ml. Padilla Lopez | I27: Lcda. Sandra Ciprian
E28: Analista Financiera | G28: Encargado Dpto. Contabilidad | I28: Encargada Dpto. Financiera

Sheet EGRESOS CTA. 2000 ONCO
A6: Servicio Nacional de Salud
D8: Instituto Nacional del Cáncer Rosa Emilia Sánchez Pérez de Tavares
D9: Cuenta Bancaria No: 04002002000
D10: Libro Banco
D11: Del 01 Al 31 De Marzo 2025
C12: CENTRO ONCOPEDIATRIA
E13: Cuenta Bancaria No: 04002002000
E14: Balance Inicial: | J14: =+'[1]CTA. 2000 ONCO'!$G$11 -> 980606.4
E15: Fecha | F15: No. Ck/Transf. | G15: Descripcion | H15: Debito | I15: Credito | J15: Balance
G16: =+'INGRESOS CUENTA COLECT'!D17 -> 45716 | I16: 0 | J16: =+J14 -> 980606.4
J17: =J16+H17-I17 -> 980606.4
J18: =J17+H18-I18 -> 980606.4
J19: =J18+H19-I19 -> 980606.4
E20: 45747 | J20: =J19+H20-I20 -> 980606.4
J21: =J20+H21-I21 -> 980606.4
J22: =J21+H22-I22 -> 980606.4
D23: Totales | H23: =SUM(H17:H22) -> 0 | I23: =SUM(I17:I22) -> 0 | J23: =+J16+H23-I23 -> 980606.4 | K23: =+J23-'[1]CTA. 2000 ONCO'!$G$11 -> 0
E31: ____________________ | G31: ____________________________________________ | I31: _________________________
E32: Preparado Por: | G32: Revisado Por: | I32: Aprobabdo Por:
E33: Lcda. Julia Villar Pimentel | G33: Lic. Jose Ml. Padilla Lopez | I33: Lcda. Sandra Ciprian
E34: Analista Financiera | G34: Encargado Dpto. Contabilidad | I34: Encargada Dpto. Financiera

Sheet Hoja2
A1: CENTRO ONCOPEDIATRIA NO. 04002002000
