Workbook

Sheet INGRESOS CUENTA COLECT
A6: Instituto Nacional del Cáncer Rosa Emilia Sánchez Pérez de Tavares
A7: Balance Inicial: Cta. 9995033000
A8: Libro Banco
A9: Del 01 Al 28 De Febrero 2026
B13: Cuenta Bancaria No: 010-252753-9
B14: Balance Inicial: Cta. 9995033000 | G14: =+'[2]CTA. RECOLECTORA (010) y 3000'!$G$623 -> 1.26638e+08
G15: 0
B16: Fecha | C16: No. Ck/Transf. | D16: Descripcion | E16: Debito | F16: Credito | G16: Balance
D17: 46053 | E17: ='[1]CTA. RECOLECTORA (010)'!E6 -> 0 | F17: 0 | G17: =+G14 -> 1.26638e+08
B18: 46054 | D18: NOTA DEBITO POR COBRO TARJETA CREDITO ENERO 2026 | F18: 2236.72 | G18: =G17+E18-F18 -> 1.2663576e+08
B19: 46054 | D19: DEPOSITO | E19: 8500 | G19: =G18+E19-F19 -> 1.2664426e+08
B20: 46055 | D20: DEPOSITO | E20: 30440 | G20: =G19+E20-F20 -> 1.266747e+08
B21: 46055 | D21: DEPOSITO | E21: 44630 | G21: =G20+E21-F21 -> 1.2671933e+08
B22: 46055 | D22: DEPOSITO | E22: 27650 | G22: =G21+E22-F22 -> 1.2674698e+08
B23: 46055 | D23: DEPOSITO | E23: 1100 | G23: =G22+E23-F23 -> 1.2674808e+08
B24: 46055 | D24: DEPOSITO | E24: 48270 | G24: =G23+E24-F24 -> 1.2679635e+08
B25: 46055 | D25: DEPOSITO | E25: 7525 | G25: =G24+E25-F25 -> 1.2680388e+08
B26: 46055 | D26: DEPOSITO | E26: 2290 | G26: =G25+E26-F26 -> 1.2680617e+08
B27: 46055 | D27: NOTA DEBITO POR COBRO TARJETA CREDITO CARDNET | E27: 101953.78 | F27: 2684.06 | G27: =G26+E27-F27 -> 1.2690544e+08
B28: 46055 | D28: pago de alquiler de espacio máquinas expendedoras snacks y café por RD$$20,000.00 de parte de VS Solution, SRL mes Enero 2026 | E28: 20000 | G28: =G27+E28-F28 -> 1.2692544e+08
B29: 46055 | D29: Dp via transferencia por la Sra. Santa Geannis Medrano de León , ayuda Santa Familia Guzmán Récord #2023/12416 para Saldo Ecocardiograma Strain (Factura #177968-26 por el monto de RD$ 500.00 | E29: 500 | G29: =G28+E29-F29 -> 1.2692594e+08
B30: 46055 | D30: Dp via transferencia por la Sra. Santa Geannis Medrano de León , ayuda Luis Rosario Ramírez Pineda #2024/10551 para Saldo Ecocardiograma Strain (Factura #178029-26 por el monto de RD$ 500.00 | E30: 500 | G30: =G29+E30-F30 -> 1.2692644e+08
B31: 46055 | D31: Deposito Via Cheque #002849 Asoc. Mujeres Solidarias (AMSI) Donacion a la Sra. Alltagracia Marisol Martinez, para pago Ecocardiograma Strain Factura #178064-26 por el monto de RD$3,500.00 | E31: 3500 | G31: =G30+E31-F31 -> 1.2692994e+08
B32: 46055 | D32: Dp via transferenciaElvira Reyes Récord #2026/1343 para Saldo Inmunohistoquímica de Tejidos Sólidos (Factura #489425-26, por RD$1,506.00 | E32: 1506 | G32: =G31+E32-F32 -> 1.2693144e+08
B33: 46055 | D33: TRANSF. DE CUENTA 3000 A 3001 PARA PAGOS | F33: 2703311.7 | G33: =G32+E33-F33 -> 1.2422813e+08
B34: 46056 | D34: DEPOSITO | E34: 65478 | G34: =G33+E34-F34 -> 1.2429361e+08
B35: 46056 | D35: DEPOSITO | E35: 52053 | G35: =G34+E35-F35 -> 1.2434566e+08
B36: 46056 | D36: DEPOSITO | E36: 34175 | G36: =G35+E36-F36 -> 1.2437984e+08
B37: 46056 | D37: DEPOSITO | E37: 18750 | G37: =G36+E37-F37 -> 1.2439859e+08
B38: 46056 | D38: DEPOSITO | E38: 1800 | G38: =G37+E38-F38 -> 1.2440039e+08
B39: 46056 | D39: DEPOSITO | E39: 3830 | G39: =G38+E39-F39 -> 1.2440422e+08
B40: 46056 | D40: NOTA DEBITO POR COBRO TARJETA CREDITO CARDNET | E40: 43107.83 | F40: 1126.85 | G40: =G39+E40-F40 -> 1.244462e+08
B41: 46056 | D41: DEPOSITO VIA CHEQUE ARS MONUMENTAL | E41: 22849.5 | G41: =G40+E41-F41 -> 1.2446905e+08
B42: 46056 | D42: DEPOSITO VIA CHEQUE ARS MONUMENTAL | E42: 20477.85 | G42: =G41+E42-F42 -> 1.2448953e+08
B43: 46056 | D43: DEPOSITO VIA CHEQUE ARS MONUMENTAL | E43: 116049.73 | G43: =G42+E43-F43 -> 1.2460558e+08
B44: 46057 | D44: DEPOSITO | E44: 380 | G44: =G43+E44-F44 -> 1.2460596e+08
B45: 46057 | D45: DEPOSITO | E45: 37540 | G45: =G44+E45-F45 -> 1.246435e+08
B46: 46057 | D46: DEPOSITO | E46: 83608 | G46: =G45+E46-F46 -> 1.247271e+08
B47: 46057 | D47: DEPOSITO | E47: 25350 | G47: =G46+E47-F47 -> 1.2475245e+08
B48: 46057 | D48: DEPOSITO | E48: 3050 | G48: =G47+E48-F48 -> 1.247555e+08
...

Sheet EGRESOS CTA. AUXILIAR 3001
A5: Servicio Nacional de Salud
C6: Instituto Nacional del Cáncer Rosa Emilia Sánchez Pérez de Tavares
C7: Cuenta Colectora Auxiliar no. 99995033001
C8: Libro Banco
C9: Del 01 Al 28 De Febrero 2026
D11: Cuenta Bancaria No: AUXILIAR NO. 9995033001
D12: Balance Inicial: | I12: =+'[2]CTA. RECOLECTORA AUXILIAR 3001'!$J$394 -> -50117116
D13: Fecha | E13: No. Ck/Transf. | F13: Descripcion | G13: Debito | H13: Credito | I13: Balance
F14: =+'INGRESOS CUENTA COLECT'!D17 -> 46053 | H14: 0 | I14: =+I12 -> -50117116
D15: 46055 | F15: TRANSF. DE CUENTA 3000 A 3001 PARA PAGOS | G15: 2703311.7 | I15: =I14+G15-H15 -> -47413804
D16: 46057 | F16: TRANSF. DE CUENTA 3000 A 3001 PARA PAGOS | G16: 388954.24 | I16: =I15+G16-H16 -> -47024850
D17: 46058 | F17: TRANSF. DE CUENTA 3000 A 3001 PARA PAGOS | G17: 3860323.8 | I17: =I16+G17-H17 -> -43164526
D18: 46059 | F18: TRANSF. DE CUENTA 3000 A 3001 PARA PAGOS | G18: 10700682 | I18: =I17+G18-H18 -> -32463845
D19: 46059 | E19: 832-1 | F19: DHL DOMINICANA | H19: 68916.18 | I19: =I18+G19-H19 -> -32532761
D20: 46059 | E20: 830-1 | F20: AGUA PLANETA AZUL, S.A. | H20: 96420 | I20: =I19+G20-H20 -> -32629181
D21: 46059 | E21: 843-1 | F21: RETENCION 0.5% POR TRASF. VIA LIBRAMIENTOS A PROVEERDORES | H21: 550 | I21: =I20+G21-H21 -> -32629731
D22: 46059 | E22: 843-1 | F22: 2T IMPORTACIONES, SRL | H22: 12430 | I22: =I21+G22-H22 -> -32642161
D23: 46059 | E23: 846-1 | F23: RETENCION 0.5% POR TRASF. VIA LIBRAMIENTOS A PROVEERDORES | H23: 2592.5 | I23: =I22+G23-H23 -> -32644753
D24: 46059 | E24: 846-1 | F24: ABASTECIMIENTOS COMERCIALES FJJ, S.R.L. | H24: 58590.5 | I24: =I23+G24-H24 -> -32703344
D25: 46059 | E25: 853-1 | F25: RETENCION 0.5% POR TRASF. VIA LIBRAMIENTOS A PROVEERDORES | H25: 5767.5 | I25: =I24+G25-H25 -> -32709111
D26: 46059 | E26: 853-1 | F26: ABASTECIMIENTOS COMERCIALES FJJ, S.R.L. | H26: 130345.5 | I26: =I25+G26-H26 -> -32839457
D27: 46059 | E27: 865-1 | F27: RETENCION 0.5% POR TRASF. VIA LIBRAMIENTOS A PROVEERDORES | H27: 5400 | I27: =I26+G27-H27 -> -32844857
D28: 46059 | E28: 865-1 | F28: ACTUALIDADES VD, S.R.L. | H28: 122040 | I28: =I27+G28-H28 -> -32966897
D29: 46062 | E29: 898-1 | F29: RETENCION 0.5% POR TRASF. VIA LIBRAMIENTOS A PROVEERDORES | H29: 3199.45 | I29: =I28+G29-H29 -> -32970096
D30: 46062 | E30: 898-1 | F30: ACTUALIDADES VD, S.R.L. | H30: 72307.57 | I30: =I29+G30-H30 -> -33042404
... D58: 46062 | E58: 949-1 | F58: SEAN DOMINICANA, S.R.L. | H58: 245000 | I58: =I57+G58-H58 -> -37132722
D59: 46063 | F59: TRANSF. DE CUENTA 3000 A 3001 PARA PAGOS | G59: 5239214.2 | I59: =I58+G59-H59 -> -31893508
D60: 46063 | E60: 953-1 | F60: HUMANO SEGUROS, S.A. | H60: 189325.29 | I60: =I59+G60-H60 -> -32082833
D61: 46063 | E61: 959-1 | F61: SEGURO NACIONAL DE SALUD (SENASA) | H61: 271295.53 | I61: =I60+G61-H61 -> -32354128
D62: 46063 | E62: 972-1 | F62: MAPFRE SALUD ARS, S.A. | H62: 67250.25 | I62: =I61+G62-H62 -> -32421379
D63: 46063 | E63: 1008-1 | F63: RETENCION 0.5% POR TRASF. VIA LIBRAMIENTOS A PROVEERDORES | H63: 22890 | I63: =I62+G63-H63 -> -32444269
D64: 46063 | E64: 1008-1 | F64: DECO SERVICIOS OYB, S.R.L. | H64: 517314 | I64: =I63+G64-H64 -> -32961583
D65: 46063 | E65: 1031-1 | F65: RETENCION 0.5% POR TRASF. VIA LIBRAMIENTOS A PROVEERDORES | H65: 2100 | I65: =I64+G65-H65 -> -32963683
D66: 46063 | E66: 1031-1 | F66: PROVIMEDICA D & M, S.R.L. | H66: 47460 | I66: =I65+G66-H66 -> -33011143
D67: 46063 | E67: 1042-1 | F67: RETENCION 0.5% POR TRASF. VIA LIBRAMIENTOS A PROVEERDORES | H67: 28000 | I67: =I66+G67-H67 -> -33039143
D68: 46063 | E68: 1042-1 | F68: CRISTALIA DOMINICANA SRL | H68: 532000 | I68: =I67+G68-H68 -> -33571143
D69: 46064 | F69: TRANSF. DE CUENTA 3000 A 3001 PARA PAGOS | G69: 894938.75 | I69: =I68+G69-H69 -> -32676204
D70: 46064 | F70: TRANSF. DE CUENTA 3000 A 3001 PARA PAGOS | G70: 2735903.7 | I70: =I69+G70-H70 -> -29940300
D71: 46064 | E71: 1059-1 | F71: RETENCION 0.5% POR TRASF. VIA LIBRAMIENTOS A PROVEERDORES | H71: 6011.04 | I71: =I70+G71-H71 -> -29946311
D72: 46064 | E72: 1059-1 | F72: SANTOS & ORTIZ GROUP, S.R.L. | H72: 135849.5 | I72: =I71+G72-H72 -> -30082161
...

Sheet EGRESOS CTA.  OPERT. 160
A5: Servicio Nacional de Salud
C6: Instituto Nacional del Cáncer Rosa Emilia Sánchez Pérez de Tavares
C7: Cuenta Operativa No. 160-112796-8
C8: Libro Banco
C9: Del 01 Al 30 De Enero 2026
D11: Cuenta Bancaria No: 160-112796-8
D12: Balance Inicial: | I12: =+'[2]CTA. OPERATIVA.(160)'!$J$9 -> 234216.17
D13: Fecha | E13: No. Ck/Transf. | F13: Descripcion | G13: Debito | H13: Credito | I13: Balance
F14: =+'INGRESOS CUENTA COLECT'!D17 -> 46053 | H14: 0 | I14: =+I12 -> 234216.17
D15: 46064 | E15: 0052-2025 | F15: REINTEGRO TRANSF. 0052-2025, BENEFICIARIO YOHANNA ELIZABETH THOMPSON POR ERROR EN LA CUENTA BANCARIA | G15: 2060.16 | I15: =I14+G15-H15 -> 236276.33
D16: 46064 | E16: 0001-2026 | F16: NOMINA PROYECTO PRIMERA DAMA | H16: 212625 | I16: =I15+G16-H16 -> 23651.333
D17: 46066 | F17: PAGO IMPUESTO 0.15% | H17: 318.93 | I17: =I16+G17-H17 -> 23332.403
D18: 46081 | F18: CARGOS POR SERVICIOS (RETENCION DE ESTADO) | H18: 175 | I18: =I17+G18-H18 -> 23157.403
I19: =I18+G19-H19 -> 23157.403
I20: =I19+G20-H20 -> 23157.403
I21: =I20+G21-H21 -> 23157.403
I22: =I21+G22-H22 -> 23157.403
I23: =I22+G23-H23 -> 23157.403
I24: =I23+G24-H24 -> 23157.403
I25: =I24+G25-H25 -> 23157.403
I26: =I25+G26-H26 -> 23157.403
I27: =I26+G27-H27 -> 23157.403
I28: =I27+G28-H28 -> 23157.403
I29: =I28+G29-H29 -> 23157.403
I30: =I29+G30-H30 -> 23157.403
... I61: =I60+G61-H61 -> 23157.403
C62: Totales | G62: =SUM(G15:G61) -> 2060.16 | H62: =SUM(H15:H61) -> 213118.93 | I62: =+I14+G62-H62 -> 23157.403 | J62: =+I62-'[2]CTA. OPERATIVA.(160)'!$J$13 -> 0
D65: ____________________ | F65: _________________________ | H65: ______________________________
D66: Preparado Por: | F66: Revisado Por: | H66: Aprobabdo Por:
D67: Lcda. Julia Villar Pimentel | F67: Lic. Lisa Marie Perez Cruz | H67: Licda. Ana Teresa Vendrell Batista
D68: Analista Financiera | F68: Encargado Dpto. Contabilidad | H68: Encargada Dpto. Financiera

Sheet EGRESOS CTA. NOMINA
A6: Servicio Nacional de Salud
D8: Instituto Nacional del Cáncer Rosa Emilia Sánchez Pérez de Tavares
D9: Cuenta Bancaria No: 0100202000
D10: Libro Banco
D11: Del 01 Al 31 De Enero 2026
E13: Cuenta Bancaria No: 0100202000
E14: Balance Inicial: | J14: =+'[2]CTA. NOMINA 2000'!$G$103 -> 76012936
E15: Fecha | F15: No. Ck/Transf. | G15: Descripcion | H15: Debito | I15: Credito | J15: Balance
G16: =+'INGRESOS CUENTA COLECT'!D17 -> 46053 | I16: 0 | J16: =+J14 -> 76012936
E17: 46059 | G17: ASIGANCION CUOTA DE PAGO DESDE CTA 2000 A 2001 | H17: 488411.95 | J17: =J16+H17-I17 -> 76501348
E18: 46059 | G18: ASIGANCION CUOTA DE PAGO DESDE CTA 2000 A 2001 | I18: 488411.95 | J18: =J17+H18-I18 -> 76012936
E19: 46059 | G19: ASIGNACION PRESUPUESTARIA PARA GASTOS | H19: 1010358.8 | J19: =J18+H19-I19 -> 77023294
E20: 46062 | G20: ASIGNACION PRESUPUESTARIA PARA PAGO NOMINAS POR EL MONTO DE RD$71,769,237.00 ASIGNACION PRESUPUESTARIA PARA GASTOS 1,010,358.75 | H20: 72779596 | J20: =J19+H20-I20 -> 1.4980289e+08
E21: 46062 | G21: ASIGNACION PRESUPUESTARIA PARA PAGO NOMINAS POR EL MONTO DE RD$71,769,237.00 ASIGNACION PRESUPUESTARIA PARA GASTOS 1,010,358.75 | H21: 72779596 | J21: =J20+H21-I21 -> 2.2258249e+08
E22: 46065 | G22: TRANSFERENCIA CORRIENTE PARA CUBRIR EL PAGO DE INDEMNIZACIÓN A EX COLABORADORES. | H22: 1821686.5 | J22: =J21+H22-I22 -> 2.2440417e+08
E23: 46065 | G23: ASIGANCION CUOTA DE PAGO DESDE CTA 2000 A 2001 | H23: 308500 | J23: =J22+H23-I23 -> 2.2471267e+08
E24: 46065 | G24: ASIGANCION CUOTA DE PAGO DESDE CTA 2000 A 2001 | I24: 308500 | J24: =J23+H24-I24 -> 2.2440417e+08
E25: 46065 | G25: ASIGANCION CUOTA DE PAGO DESDE CTA 2000 A 2001 | H25: 1821686.5 | J25: =J24+H25-I25 -> 2.2622586e+08
E26: 46065 | G26: ASIGANCION CUOTA DE PAGO DESDE CTA 2000 A 2001 | I26: 1821686.5 | J26: =J25+H26-I26 -> 2.2440417e+08
E27: 46069 | G27: DEPOSITO VIA TRANSF. PRESIDENCIA DE LA REPUBLICA DOMINICANA | H27: 389220 | J27: =J26+H27-I27 -> 2.2479339e+08
E28: 46070 | G28: ASIGANCION CUOTA DE PAGO DESDE CTA 2000 A 2001 | H28: 23240602 | J28: =J27+H28-I28 -> 2.4803399e+08
E29: 46070 | G29: ASIGANCION CUOTA DE PAGO DESDE CTA 2000 A 2001 | I29: 23240602 | J29: =J28+H29-I29 -> 2.2479339e+08
E30: 46070 | G30: REINTEGRO TRANSACCION POR ANULACION DE LIBRAMIENTO 6486-1 ALTICE DOMINICANA, S.A. 6488-1, CORPORACION DEL ACUEDUCTO Y ALCANTARILLADO DE SANTO DOMINGO, CAASD 6490-1 COMPAÑÍA DOMINICANA DE TELEFONOS, 6496-1 DISTRIBUIDORES INTERNACIONALES DE PETROLEO, S.A. DEL 11 DE NOVIEMBRE DEVUELTO POR CONTRALORIA | H30: 1114783.1 | J30: =J29+H30-I30 -> 2.2590818e+08
E31: 46070 | G31: DEVOLUCION FONDOS POR SUBSIDIOS DE MATERNIDAD Y ENFERMEDAD COMUN CORRESPONDIENTE AL MES DE FEBRERO 2026 | H31: 386996.02 | J31: =J30+H31-I31 -> 2.2629517e+08
E32: 46076 | G32: DEPOSITO VIA TRANSF. MINISTERIO DE SALUD PUBLICA | H32: 36600 | J32: =J31+H32-I32 -> 2.2633177e+08
E33: 46076 | G33: DEPOSITO VIA TRANSF. MINISTERIO DE SALUD PUBLICA | H33: 36600 | J33: =J32+H33-I33 -> 2.2636837e+08
E34: 46076 | G34: DEPOSITO VIA TRANSF. MINISTERIO DE SALUD PUBLICA | H34: 36600 | J34: =J33+H34-I34 -> 2.2640497e+08
E35: 46076 | G35: DEPOSITO VIA TRANSF. MINISTERIO DE SALUD PUBLICA | H35: 36600 | J35: =J34+H35-I35 -> 2.2644157e+08
E36: 46076 | G36: ASIGANCION CUOTA DE PAGO DESDE CTA 2000 A 2001 | H36: 39129743 | J36: =J35+H36-I36 -> 2.6557131e+08
E37: 46076 | G37: ASIGANCION CUOTA DE PAGO DESDE CTA 2000 A 2001 | I37: 39129743 | J37: =J36+H37-I37 -> 2.2644157e+08
E38: 46076 | G38: ASIGANCION CUOTA DE PAGO DESDE CTA 2000 A 2001 | H38: 62370344 | J38: =J37+H38-I38 -> 2.8881192e+08
E39: 46076 | G39: ASIGANCION CUOTA DE PAGO DESDE CTA 2000 A 2001 | I39: 62370344 | J39: =J38+H39-I39 -> 2.2644157e+08
E40: 46078 | G40: DEPOSITO VIA TRANSF. MINISTERIO DE SALUD PUBLICA | H40: 36600 | J40: =J39+H40-I40 -> 2.2647817e+08
E41: 46076 | F41: 819-1 | G41: RETENCION ISR SALARIAL POR TRASF. VIA LIBRAMIENTOS NOMINA | I41: 3077.82 | J41: =J40+H41-I41 -> 2.2647509e+08
E42: 46076 | F42: 819-1 | G42: NOMINA HORAS EXTRAS OCTUBRE 2025, FONDO GENERAL | I42: 44132.47 | J42: =J41+H42-I42 -> 2.2643096e+08
E43: 46076 | F43: 821-1 | G43: RETENCION ISR SALARIAL POR TRASF. VIA LIBRAMIENTOS NOMINA | I43: 6312.13 | J43: =J42+H43-I43 -> 2.2642465e+08
E44: 46076 | F44: 821-1 | G44: NOMINA HORAS EXTRAS AGOSTO 2025, FONDO GENERAL | I44: 106358.47 | J44: =J43+H44-I44 -> 2.2631829e+08
E45: 46076 | F45: 876-1 | G45: NOMINA VACACIONES NO DISFRUTADAS EX COLABORADORES ENERO 2026, FONDO GENERAL | I45: 8375.63 | J45: =J44+H45-I45 -> 2.2630992e+08
E46: 46076 | F46: 878-1 | G46: NOMINA VACACIONES NO DISFRUTADAS EX COLABORADORES ENERO 2026, FONDO GENERAL | I46: 16151.36 | J46: =J45+H46-I46 -> 2.2629376e+08
E47: 46076 | F47: 880-1 | G47: NOMINA INDEMNIZACION EX COLABORADORES ENERO 2026, FONDO GENERAL | I47: 345100 | J47: =J46+H47-I47 -> 2.2594866e+08
...

Sheet EGRESOS CTA. FONDOCYT
A6: Servicio Nacional de Salud
D8: Instituto Nacional del Cáncer Rosa Emilia Sánchez Pérez de Tavares
D9: Cuenta Bancaria No: 9602576155
D10: Libro Banco
D11: Del 01 Al 31 De Enero 2026
E14: Cuenta Bancaria No: 9602576155
E15: - | J15: =+'[2]CTA. FONDOCYT 960'!$J$12 -> 1178642.1
E16: Fecha | F16: No. Ck/Transf. | G16: Descripcion | H16: Debito | I16: Credito | J16: Balance
G17: =+'INGRESOS CUENTA COLECT'!D17 -> 46053 | I17: 0 | J17: =+J15 -> 1178642.1
J18: =J17+H18-I18 -> 1178642.1
J19: =J18+H19-I19 -> 1178642.1
J20: =J19+H20-I20 -> 1178642.1
J21: =J20+H21-I21 -> 1178642.1
E22: 46081 | G22: CARGOS POR SERVICIOS (RETENCION DE ESTADO) | I22: 175 | J22: =J21+H22-I22 -> 1178467.1
J23: =J22+H23-I23 -> 1178467.1
J24: =J23+H24-I24 -> 1178467.1
J25: =J24+H25-I25 -> 1178467.1
J26: =J25+H26-I26 -> 1178467.1
J27: =J26+H27-I27 -> 1178467.1
J28: =J27+H28-I28 -> 1178467.1
J29: =J28+H29-I29 -> 1178467.1
D30: Totales | H30: 0 | I30: =SUM(I18:I22) -> 175 | J30: =+J15+H30-I30 -> 1178467.1 | K30: =+J30-'[2]CTA. FONDOCYT 960'!$J$13 -> 0
E35: ____________________ | G35: ______________________________ | I35: _________________________
E36: Preparado Por: | G36: Revisado Por: | I36: Aprobabdo Por:
E37: Lcda. Julia Villar Pimentel | G37: Lic. Lisa Marie Perez Cruz | I37: Licda. Ana Teresa Vendrell Batista
E38: Analista Financiera | G38: Encargado Dpto. Contabilidad | I38: Encargada Dpto. Financiera

Sheet EGRESOS CTA. 2000 ONCO
A6: Servicio Nacional de Salud
D8: Instituto Nacional del Cáncer Rosa Emilia Sánchez Pérez de Tavares
D9: Cuenta Bancaria No: 04002002000
D10: Libro Banco
D11: Del 01 Al 31 De Enero 2026
C12: CENTRO ONCOPEDIATRIA
E13: Cuenta Bancaria No: 04002002000
E14: Balance Inicial: | J14: =+'[2]CTA. 2000 ONCO.'!$G$21 -> 780596.4
E15: Fecha | F15: No. Ck/Transf. | G15: Descripcion | H15: Debito | I15: Credito | J15: Balance
G16: =+'INGRESOS CUENTA COLECT'!D17 -> 46053 | I16: 0 | J16: =+J14 -> 780596.4
E17: 46076 | G17: Deposito Via cheque de Adm. # 11425064 (Sr George Mansfield) Donacion para la unidad Oncopediatrica del Incart por el monto de RD$100,000.00 | H17: 100000 | J17: =J16+H17-I17 -> 880596.4
E18: 46077 | G18: PAGO IMPUESTO 0.15% | I18: 361.11 | J18: =J17+H18-I18 -> 880235.29
E19: 46078 | G19: PAGO IMPUESTO 0.15% | I19: 1.3 | J19: =J18+H19-I19 -> 880233.99
E20: 46079 | G20: PAGO IMPUESTO 0.15% | I20: 3.91 | J20: =J19+H20-I20 -> 880230.08
J21: =J20+H21-I21 -> 880230.08
J22: =J21+H22-I22 -> 880230.08
J23: =J22+H23-I23 -> 880230.08
J24: =J23+H24-I24 -> 880230.08
J25: =J24+H25-I25 -> 880230.08
J26: =J25+H26-I26 -> 880230.08
J27: =J26+H27-I27 -> 880230.08
J28: =J27+H28-I28 -> 880230.08
D29: Totales | H29: =SUM(H17:H28) -> 100000 | I29: =SUM(I17:I28) -> 366.32 | J29: =+J16+H29-I29 -> 880230.08 | K29: =+J29-'[2]CTA. 2000 ONCO.'!$G$25 -> 0
E37: ____________________ | G37: ____________________________________________ | I37: _________________________
E38: Preparado Por: | G38: Revisado Por: | I38: Aprobabdo Por:
E39: Lcda. Julia Villar Pimentel | G39: Lic. Lisa Marie Perez Cruz | I39: Licda. Ana Teresa Vendrell Batista
E40: Analista Financiera | G40: Encargado Dpto. Contabilidad | I40: Encargada Dpto. Financiera

Sheet EGRESOS CTA. 3103 F REPONIBLE
A6: Servicio Nacional de Salud
D8: Instituto Nacional del Cáncer Rosa Emilia Sánchez Pérez de Tavares
D9: Cuenta Bancaria NO. 960-810310-3
D10: Libro Banco
D11: Del 01 Al 31 De Enero 2026
G12: FONDO REPONIBLE DE ASISTENCIA SOCIAL
E13: Cuenta Bancaria No: 04002002000
E14: Balance Inicial: | J14: =+'[2]CTA. 3103 F. REPONIBLE.'!$J$44 -> 11205.86
E15: Fecha | F15: No. Ck/Transf. | G15: Descripcion | H15: Debito | I15: Credito | J15: Balance
G16: =+'INGRESOS CUENTA COLECT'!D17 -> 46053 | I16: 0 | J16: =+J14 -> 11205.86
E17: 46030 | G17: PAGO IMPUESTO 0.15% | J17: =J16+H17-I17 -> 11205.86
E18: 46081 | G18: CARGOS POR SERVICIOS (RETENCION DE ESTADO) | I18: 175 | J18: =J17+H18-I18 -> 11030.86
J19: =J18+H19-I19 -> 11030.86
J20: =J19+H20-I20 -> 11030.86
J21: =J20+H21-I21 -> 11030.86
J22: =J21+H22-I22 -> 11030.86
J23: =J22+H23-I23 -> 11030.86
J24: =J23+H24-I24 -> 11030.86
J25: =J24+H25-I25 -> 11030.86
J26: =J25+H26-I26 -> 11030.86
J27: =J26+H27-I27 -> 11030.86
J28: =J27+H28-I28 -> 11030.86
J29: =J28+H29-I29 -> 11030.86
J30: =J29+H30-I30 -> 11030.86
... J49: =J48+H49-I49 -> 11030.86
D50: Totales | H50: =SUM(H17:H49) -> 0 | I50: =SUM(I17:I49) -> 175 | J50: =+J16+H50-I50 -> 11030.86 | K50: =+J50-'[2]CTA. 3103 F. REPONIBLE.'!$J$45 -> 0
E58: ____________________ | G58: ____________________________________________ | I58: _________________________
E59: Preparado Por: | G59: Revisado Por: | I59: Aprobabdo Por:
E60: Lcda. Julia Villar Pimentel | G60: Lic. Lisa Marie Perez Cruz | I60: Licda. Ana Teresa Vendrell Batista
E61: Analista Financiera | G61: Encargado Dpto. Contabilidad | I61: Encargada Dpto. Financiera

Sheet Hoja2
A1: CENTRO ONCOPEDIATRIA NO. 04002002000
