Workbook
Name _Toc180760083: '6.NOTA ACUMULADA'!$B$36
Name _Toc191191204: '6.NOTA ACUMULADA'!$B$32
Name _Toc191191207: '6.NOTA ACUMULADA'!$B$39
Name _Toc208202778: '6.NOTA ACUMULADA'!$B$28
Name abanicos: #REF!
Name abanicos: #REF!
Name abanicos: #REF!
Name abanicos: #REF!
Name abanicos: #REF!
Name abanicos: #REF!
Name ahaha: #REF!
Name ahaha: #REF!
Name ahaha: #REF!
Name ahaha: #REF!
Name ahaha: #REF!
Name ahaha: #REF!
Name copia: #REF!
Name ddd: #REF!
Name ddd: #REF!
Name dddd: #REF!
Name ddff: #REF!
Name E.D.007: #REF!
Name E.D.007: #REF!
Name E.D.007: #REF!
Name E.D.007: #REF!
Name E.D.007: #REF!
Name E.D.007: #REF!
Name E.D.018: #REF!
Name E.D.018: #REF!
Name E.D.018: #REF!
Name E.D.018: #REF!
Name E.D.018: #REF!
Name E.D.018: #REF!
Name E.D.031: #REF!
Name E.D.031: #REF!
Name E.D.031: #REF!
Name E.D.031: #REF!
Name E.D.031: #REF!
Name E.D.031: #REF!
Name ed.007: #REF!
Name ed.007: #REF!
Name ed.007: #REF!
Name fbdkjsfn: #REF!
Name fbdkjsfn: #REF!
Name fbdkjsfn: #REF!
Name fbdkjsfn: #REF!
Name fbdkjsfn: #REF!
Name fbdkjsfn: #REF!
Name fdfdf: #REF!
Name fdfdf: #REF!
Name fdfdf: #REF!
Name fdfdf: #REF!
Name fdfdf: #REF!
Name fdfdf: #REF!
Name ffddff: #REF!
Name fff: #REF!
Name fff: #REF!
Name fff: #REF!
Name fff: #REF!
Name fff: #REF!

Sheet 1.Estado de Situación Comparat
B4: SERVICIO NACIONAL DE SALUD
B5: INSTITUTO NACIONAL DEL CÁNCER ROSA EMILIA SÁNCHEZ PÉREZ DE TAVARES
B6: INCART
B7: ESTADO DE SITUACION FINANCIERA
B8: AL 31 DICIEMBRE 2022
B9: (Valores expresados en pesos dominicanos-RD$)
C14: 2022 | E14: 2021 | G14: Variación
B15: Activos
B16: Activos corrientes
B17: Efectivo y equivalente de efectivo (Notas 7) | C17: 15351429 | E17: 24933553 | G17: =+E17-C17 -> 9582123.3 | H17: =+C17/E17-1 -> -0.38430638 | I17: indicadores de liquidez
B18: Cuenta por cobrar a corto plazo (Notas 8) | C18: 2.0404709e+08 | E18: 1.9331906e+08 | G18: =+E18-C18 -> -10728032 | H18: =+C18/E18-1 -> 0.055493919
B19: Inventarios (Nota 9) | C19: 1.015421e+08 | E19: 89223143 | G19: =+E19-C19 -> -12318956 | H19: =+C19/E19-1 -> 0.13806907 | I19: A/P
B20: Total activos corrientes | C20: =SUM(C17:C19) -> 3.2094062e+08 | E20: =SUM(E17:E19) -> 3.0747576e+08 | G20: =SUM(G17:G19) -> -13464865 | H20: =+C20/E20-1 -> 0.043791632
B22: Activos no corrientes
B23: Propiedad, planta y equipo neto (Nota 10) | C23: 71842914 | E23: 64743420 | G23: =+E23-C23 -> -7099494.5 | H23: =+C23/E23-1 -> 0.10965585 | I23: =+C23/E23-1 -> 0.10965585
B24: Activos intangibles (Nota 11) | C24: 1505389.4 | E24: 1505389.4 | G24: =+E24-C24 -> 0 | H24: =+C24/E24-1 -> 0
B25: Total activos no corrientes | C25: =+C23+C24 -> 73348304 | E25: =SUM(E23:E24) -> 66248809 | G25: =SUM(G23:G24) -> -7099494.5 | H25: =+C25/E25-1 -> 0.10716411
B27: Total activos | C27: 3.9428892e+08 | E27: =+E25+E20 -> 3.7372456e+08 | G27: =+G25+G20 -> -20564360 | H27: =+C27/E27-1 -> 0.055025442
B28: Pasivos Pasivos corrientes
B30: Cuentas por pagar a corto plazo (Nota 12) | C30: 1.0242285e+08 | E30: 1.9697984e+08 | G30: =+E30-C30 -> 94556988 | H30: =+C30/E30-1 -> -0.48003383
B31: Retenciones y acumulaciones por pagar (Nota 13) | C31: 50302784 | E31: 32400359 | G31: =+E31-C31 -> -17902425 | H31: =+C31/E31-1 -> 0.55253785
B32: Otros pasivos corrientes (Nota 14) | C32: 4359800.2 | E32: 4359800.2 | G32: =+E32-C32 -> 0 | H32: =+C32/E32-1 -> 0
B33: Total pasivos corrientes | C33: =SUM(C30:C32) -> 1.5708544e+08 | E33: =SUM(E30:E32) -> 2.3374e+08 | G33: =SUM(G30:G32) -> 76654563 | H33: =+C33/E33-1 -> -0.32794799
B35: Pasivos no corrientes
B36: Otros pasivos no corrientes (Nota 15) | C36: 8466776.1 | E36: 6131584.4 | G36: =+E36-C36 -> -2335191.6 | H36: =+C36/E36-1 -> 0.38084636
B37: Total pasivos no corrientes | C37: 8466776.1 | E37: =SUM(E36) -> 6131584.4 | G37: =SUM(G36) -> -2335191.6 | H37: =+C37/E37-1 -> 0.38084636
B39: Total pasivos | C39: =+C33+C37 -> 1.6555222e+08 | E39: =+E33+E37 -> 2.3987159e+08 | G39: =+G33+G37 -> 74319372 | H39: =+C39/E39-1 -> -0.30982982
B41: Activos Netos/Patrimonio (Notas 16 y 17)
B42: Resultados positivos (ahorro)/negativo (desahorro) NOTA 16 | C42: 94883731 | E42: 20427222 | G42: =+C42-E42 -> 74456509 | H42: =+C42/E42-1 -> 3.644965
B43: Resultado acumulado (Nota 17) | C43: 1.3385298e+08 | E43: 1.1342576e+08 | G43: =+C43-E43 -> 20427222 | H43: =+C43/E43-1 -> 0.18009333
B44: Total activos netos/patrimonio | C44: =+C42+C43 -> 2.2873671e+08 | E44: =SUM(E42:E43) -> 1.3385298e+08 | G44: =+C44-E44 -> 94883731 | K44: 0
B45: Total Pasivos y activos netos/patrimonio | C45: =+C39+C44 -> 3.9428892e+08 | E45: =+E39+E44 -> 3.7372457e+08 | G45: =+C45-E45 -> 20564359
G231: =+G227-G225 -> 0

Sheet 2.Est. de Rendimiento Comparat
B10: SERVICIO NACIONAL DE SALUD
B11: INSTITUTO NACIONAL DEL CÁNCER ROSA EMILIA SÁNCHEZ PÉREZ DE TAVARES
B12: INCART
B13: ESTADO DE RENDIMIENTO FINANCIERO
B14: =+'1.Estado de Situación Comparat'!B8:E8 -> AL 31 DICIEMBRE 2022
B15: (Valores expresados en pesos dominicanos-RD$)
C20: =+'1.Estado de Situación Comparat'!C14 -> 2022 | E20: =+'1.Estado de Situación Comparat'!E14 -> 2021 | F20: VARIACION | G20: VARIACION
B21: Ingresos (Notas 18,19,20)
B22: Ingresos por transacciones con contraprestación (Nota 18) | C22: 8.1835635e+08 | E22: 7.5375946e+08 | F22: =+C22-E22 -> 64596883 | G22: =+C22-E22 -> 64596883 | H22: =+C22/E22-1 -> 0.085699598 | K22: 0 | M22: 6.2170889e+08 | N22: =+(100/C22)*M22 -> 75.970437 | O22: 0
B23: Transferencias y donaciones (Nota 19) | C23: 4.4939754e+08 | E23: 3.6951487e+08 | F23: =+C23-E23 -> 79882677 | G23: =+C23-E23 -> 79882677 | H23: =+C23/E23-1 -> 0.21618258 | K23: 0
B24: Recargos, multas y otros ingresos (Nota 20) | C24: 7004535.7 | E24: 6080493.1 | F24: =+C24-E24 -> 924042.61 | G24: =+C24-E24 -> 924042.61 | H24: =+C24/E24-1 -> 0.15196837 | K24: 0
B25: Total ingresos | C25: =SUM(C22:C24) -> 1.2747584e+09 | E25: =SUM(E22:E24) -> 1.1293548e+09 | F25: =+C25-E25 -> 1.454036e+08 | G25: =SUM(G22:G24) -> 1.454036e+08 | H25: =+C25/E25-1 -> 0.12874926
B27: Gastos Notas ,21,22,23,24,25,26
B28: Sueldos, salarios y beneficios a empleados (Nota 21) | C28: 6.8009956e+08 | E28: 6.0514615e+08 | F28: =+C28-E28 -> 74953406 | G28: =+C28-E28 -> 74953406 | H28: =+C28/E28-1 -> 0.12386001 | J28: =+E28/E25 -> 0.5358335 | K28: 0
B29: Subvención y otros pagos por transferencias (22) | C29: 0 | E29: 214329.5 | F29: =+C29-E29 -> -214329.5 | G29: =+C29-E29 -> -214329.5 | H29: =+C29/E29-1 -> -1 | K29: 0
B30: Suministros y material para consumo (Nota 23) | C30: 4.2740045e+08 | E30: 4.1519937e+08 | F30: =+C30-E30 -> 12201076 | G30: =+C30-E30 -> 12201076 | H30: =+C30/E30-1 -> 0.029386066 | I30: ok | K30: 0
B31: Gasto de depreciación y amortización (24) | C31: 17176294 | E31: 16305503 | F31: =+C31-E31 -> 870791.28 | G31: =+C31-E31 -> 870791.28 | H31: =+C31/E31-1 -> 0.053404749 | I31: ok | K31: 0
B32: Otros gastos (Nota 25) | C32: 54519455 | E32: 71401139 | F32: =+C32-E32 -> -16881684 | G32: =+C32-E32 -> -16881684 | H32: =+C32/E32-1 -> -0.23643438 | K32: 0 | O32: 0
B33: Gastos financieros (26) | C33: 551847.17 | E33: 611968.36 | F33: =+C33-E33 -> -60121.19 | G33: =+C33-E33 -> -60121.19 | H33: =+C33/E33-1 -> -0.098242318 | K33: 0
B34: Total gastos | C34: =SUM(C28:C33) -> 1.1797476e+09 | E34: =SUM(E28:E33) -> 1.1088785e+09 | F34: =+C34-E34 -> 70869138 | G34: =+C34-E34 -> 70869138 | H34: =+C34/E34-1 -> 0.063910646
B36: Ganancia (perdida) por diferencia cambiaria (27) | C36: 127099.65 | E36: 49143.607 | G36: =+C36-E36 -> 77956.043 | H36: =+C36/E36-1 -> 1.5862906 | K36: 0
C37: 0
B38: Resultado del período (ahorro / desahorro) | C38: =+C25-C34-C36 -> 94883731 | E38: =+E25-E34-E36 -> 20427222 | F38: =+F25-F34 -> 74534464 | G38: =+G25-G34+G36 -> 74612420 | H38: =+C38/E38-1 -> 3.6449649
B41: Nota:
B42: Las notas del 18 a la 27 son parte integral de este estado financieros.
F43: =+E34+312109 -> 1.1091906e+09

Sheet 3.Cambio del Patrimonio f.
B4: SERVICIO NACIONAL DE SALUD
B5: INSTITUTO NACIONAL DEL CÁNCER ROSA EMILIA SÁNCHEZ PÉREZ DE TAVARES
B6: INCART
B7: CAMBIO DE PATRIMONIO
B8: (Valores expresados en pesos dominicanos-RD$)
B9: (Valores RD$)
B10: 2022-2021
C13: Capital Aportado | E13: Cambios en Políticas Contables | G13: Revaluación | I13: Resultados Acumulados | K13: Total Activos Netos / Patrimonio
B16: Saldo al 31 de diciembre de 2020 | C16: 0 | E16: 0 | G16: 0 | I16: 1.1691713e+08 | K16: =+I16 -> 1.1691713e+08
B17: Cambio en políticas contables | E17: 0
B18: Revaluación de Propiedad, planta y equipo
B19: Ajuste al patrimonio | I19: -3491375 | K19: =+I19 -> -3491375
B20: Resultado del período | C20: - | E20: - | G20: - | I20: 0 | K20: =+I20 -> 0
B21: Saldo al 31 de Diciembre de 2020 | C21: =SUM(C16:C20) -> 0 | E21: =SUM(E16:E20) -> 0 | G21: =SUM(G16:G20) -> 0 | I21: =SUM(I16:I20) -> 1.1342576e+08 | K21: =SUM(K16:K20) -> 1.1342576e+08
B22: Cambio en políticas contables
B23: Revaluación de Propiedad, planta y equipo | G23: 0
B24: Efecto del gasto de depreciación de los activos revaluados | G24: 0 | I24: 0 | K24: 0
B25: Ajuste al patrimonio | I25: 0 | K25: 0
B26: Resultado del período 2021 | C26: - | E26: - | G26: - | I26: 20427222 | K26: 20427222
B27: Saldo al 31 de Diciembre de 2021 | C27: 0 | E27: 0 | G27: 0 | I27: =+I21+I26 -> 1.3385298e+08 | K27: =+K21+K26 -> 1.3385298e+08 | L27: =+K27-'1.Estado de Situación Comparat'!E44 -> 0
B29: Cambio en políticas contables | E29: 0
B30: Revaluación de Propiedad, planta y equipo
B31: Ajuste al patrimonio
B32: Resultado del período | C32: - | E32: - | G32: -
B33: Saldo al 31 de diciembre de 2021 | C33: =SUM(C29:C32) -> 0 | E33: =SUM(E29:E32) -> 0 | G33: =SUM(G29:G32) -> 0 | I33: =SUM(I29:I32) -> 0 | K33: =SUM(K29:K32) -> 0
B34: Cambio en políticas contables
B35: Revaluación de Propiedad, planta y equipo | G35: 0
B36: Efecto del gasto de depreciación de los activos revaluados | G36: 0 | I36: 0 | K36: 0
B37: Ajuste al patrimonio | I37: 0 | K37: 0
B38: Resultado del período | C38: - | E38: - | G38: - | I38: 94883731 | K38: 94883731
B39: Saldo al 31 de diciembre de 2021 | C39: 0 | E39: 0 | G39: 0 | I39: =+I27+I38 -> 2.2873671e+08 | K39: =+K27+K38 -> 2.2873671e+08
I40: =+I39-'1.Estado de Situación Comparat'!C44 -> 0 | K40: =+K39-'1.Estado de Situación Comparat'!C44 -> 0

Sheet 4.Flujo de Efectivo Anual
B5: SERVICIO NACIONAL DE SALUD
B6: INSTITUTO NACIONAL DEL CÁNCER ROSA EMILIA SÁNCHEZ PÉREZ DE TAVARES
B7: INCART
B8: FLUJO DE EFECTIVO al 31 de diciembre 2022
B9: (Valores expresados en pesos dominicanos-RD$)
B12: Flujo de efectivo procedentes de actividades operativas
C14: 2022 | E14: 2021
B16: Cobros por venta de bienes y servicios y arrendamientos | C16: 7.9270227e+08 | E16: 6.7295503e+08
B17: Cobros de subvenciones, transferencias, y otras asignaciones | C17: 3.5714515e+08 | E17: 3.165169e+08 | F17: 64524282 | G17: =+C16+C17 -> 1.1498474e+09 | H17: =+C16+C17 -> 1.1498474e+09
B18: Apertura Caja Chica | C18: 0 | E18: =+-20000 -> -20000
B19: Cierre caja chica 2020
B20: Descuento por pronto pago | C20: 0 | E20: 0
B21: Pagos a los trabajadores o en beneficio de ellos | C21: -5.2951353e+08 | E21: =+-532892634 -> -532892634 | F21: 61688223 | G21: =+F21-F22 -> 61688223 | H21: 36364164
B22: Pagos por contribuciones a la seguridad social | C22: -50785728 | E22: -63480954
B23: Pagos a proveedores | C23: -5.6077848e+08 | E23: -3.9490918e+08 | H23: =+C23+C33 -> -5.7913029e+08
B24: Flujos de efectivo netos de las actividades de operación | C24: =SUM(C16:C23) -> 8769678.5 | E24: =SUM(E16:E23) -> -1830837.8 | H24: =+C23+C33 -> -5.7913029e+08
B26: Flujos de efectivo de las actividades de inversión
B27: Cobros por venta de propiedad, planta y equipo | C27: 0 | E27: 0
B28: Cobros por venta de intangibles y otros activos de largo plazo | C28: 0 | E28: 0
B29: Cobros por títulos patrimoniales o de deuda y participación en asociaciones | C29: 0 | E29: 0
B30: Cobros por reembolsos de préstamos o anticipos hechos a terceros | C30: 0 | E30: 0
B31: Cobros por conceptos de contratos a futuro, a plazo, opciones o permuta | C31: 0 | E31: 0
B32: Otros cobros | C32: 0 | E32: 0
B33: Pagos por adquisición de propiedad, planta y equipo | C33: =+-18351802.14 -> -18351802 | E33: -41228096
B34: Pagos por adquisición de intangibles y otros activos de largo plazo | C34: 0 | E34: 0
B35: Pagos por adquisición de títulos patrimoniales o de deuda y participación en asociaciones | C35: 0 | E35: 0
B36: Pagos por otorgamiento de préstamos o anticipos hechos a terceros | C36: 0 | E36: 0
B37: Pagos por conceptos de contratos a futuro, a plazo, opciones o permuta | C37: 0 | E37: 0
B38: Pagos por costos de construcciones y desarrollos en proceso | C38: 0 | E38: 0
B39: Otros pagos | C39: 0 | E39: 0
B40: Flujos de efectivo netos por las actividades de inversión | C40: =SUM(C27:C39) -> -18351802 | E40: =+E33 -> -41228096
B42: Flujos de efectivo de las actividades de financiación
B43: Cobro por emisión de títulos de deudas, bonos | C43: 0 | E43: 0
B44: Cobro por préstamos, pagarés, hipotecas | C44: 0 | E44: 0
B45: Cobro por aporte de accionista | C45: 0 | E45: 0
B46: Cobro de los arrendatarios por contratos de arrendamientos financieros | C46: 0 | E46: 0
B47: Otros cobros | C47: 0 | E47: 0
B48: Pago reembolso en efectivo de los montos recibidos en emisión de títulos de deudas, bonos | C48: 0 | E48: 0
B49: Pago reembolso en efectivo de los montos recibidos en préstamos, pagarés, hipotecas | C49: 0 | E49: 0
B50: Pago reembolso de efectivo recibió por aporte de accionista | C50: 0 | E50: 0
...

Sheet 6.NOTA ACUMULADA
A2: SERVICIO NACIONAL DE SALUD
A3: INSTITUTO NACIONAL DEL CÁNCER ROSA EMILIA SÁNCHEZ PÉREZ DE TAVARES
A4: INCART
A5: NOTAS ESTADOS FINANCIEROS
A6: AL 31 DICIEMBRE 2022
A7: (Valores expresados en pesos dominicanos-RD$)
B14: Nota #1 Entidad Económica
B16: Base legal mediante la cual fue creada es el Decreto 133-12 del 22 de marzo 2012, donde designan con el nombre de Instituto Nacional del Cáncer Rosa Emilia Sánchez Pérez de Tavares al nuevo hospital construido en la calle Correa y Cedrón esquina Rafael A. Sánchez Ravelo, Zona Universitaria, Distrito Nacional. En la actualidad los principales funcionarios de la institución son: Dr. José Ramírez Feliz (Director General General), Licda.Sandra Ciprian (Directora Financiera), Licda. Lissete Rodriguez (Directora Administrativa), Licda.Johanna Castillo (Directora de Gestión Humana Interina), Licda. Maribel Feliz (Gerente de Tesorería), Licda. Rosa (Gerente de Compras y Contrataciones),Dr. Mario Furcal (Gerente del Centro Quirúrgico), Licda. Maria M. Santana (Gerente de Revisión y Control) y Licda. Yokasta Burgos (Contador General) entre otros.
B19: Nota #2 Base de Presentación
B21: Los Estados Financieros han sido preparados de conformidad con las Normas Internacionales de Contabilidad del Sector Público (NICSP), adoptadas por la Dirección General de Contabilidad Gubernamental de la República Dominicana (Digecog).
B23: El Instituto Nacional del Cáncer (INCART) presenta su presupuesto aprobado según la base contable de efectivo y los Estados Financieros sobre la base de acumulación (o devengo) conforme a las estipulaciones de las NICESP 24 “Presentación de Información del Presupuesto en los Estados Financieros”.
B25: El presupuesto se aprueba según la base contable de efectivo siguiendo una clasificación de pago por funciones. El presupuesto aprobado cubre el periodo fiscal que va desde el 1ro., de Enero hasta el 31 de diciembre 2022 y es incluido como información suplementaria en los Estados Financieros y sus Notas.
B27: La emisión y aprobación final de los Estados Financieros es autorizada por el Director General.
B29: Nota #3 Moneda funcional y de presentación
B31: Los Estados Financieros están presentados en pesos dominicanos (RD$) moneda de curso legal en la República Dominicana.
B33: Nota #4 Uso de Estimados y Juicios
B35: La preparación de los estados financieros de conformidad con las NICSP, requiere que la administración realice juicios, estimaciones y supuestos que afectan la aplicación de las políticas contables y los montos de activos, pasivos, ingresos, y gastos reportados. Los resultados reales pueden diferir de estas estimaciones.
B37: El Incart realiza estimaciones de ingresos y gastos en el presupuesto, cuyos resultados pueden diferir de los reales, sin embargo, esto no afecta los registros contables.
... B100: Un detalle del efectivo y equivalentes de efectivo al 31 de diciembre 2022 y 2021 es como sigue:
D102: 2022 | E102: 2021 | F102: VARIACION | G102: %
B103: Banco de Reservas Cta. Corriente Colectora No.010-252753-9 | D103: 13731133 | E103: 13163601 | F103: =+D103-E103 -> 567532.34 | G103: =+D103/E103-1 -> 0.043113762
B104: Banco de Reservas Cta. Corriente Operativa No. 160-112796-8 | D104: 435587.24 | E104: 1197978.2 | F104: =+D104-E104 -> -762390.91 | G104: =+D104/E104-1 -> -0.63639801
B105: Banco de Reservas Cta. Tesorería Nomina No.0100202000 | D105: 768152.91 | E105: 9150835 | F105: =+D105-E105 -> -8382682 | G105: =+D105/E105-1 -> -0.91605652
B106: Banco de Reservas Cta. Fondocyt No. 1-1-01-02-001-0006 | D106: 337556.11 | E106: 1411264.3 | F106: =+D106-E106 -> -1073708.2 | G106: 1
B107: Caja Chica | D107: 70000 | E107: 874.54 | F107: =+D107-E107 -> 69125.46 | G107: 0
B108: Fondos Caja | D108: 9000 | E108: 9000 | F108: =+D108-E108 -> 0 | G108: =+D108/E108-1 -> 0
B109: Total | D109: =SUM(D103:D108) -> 15351429 | E109: =SUM(E103:E108) -> 24933553 | F109: =SUM(F103:F108) -> -9582123.3 | G109: =+D109/E109-1 -> -0.38430638
D110: 0
B111: La Institución posee saldos de efectivo al 31 de diciembre 2022, por valor de RD$15,351,429 el cual presenta una disminución de un 38% en comparación al periodo 2022.
B113: El efectivo en Caja y bancos lo conforman los balances conciliados en las cuentas bancarias del Incart, más los fondos de Caja chica y Caja General.
B116: (7-1) El saldo en banco, incluye RD$1,511,033.28, actividad MD Anderson, aporte de RD$1,000,000.00 del Banco Central para la construcción del muro del centro de urgencias. Aporte de RD$ 1,572,134.44 MESCYT (Proyecto De Investigacion: "Predicción Y Validació Epigenética De Firma Molecular De 27 Genes Asociados Respuesta Al Tratamiento Quimio Radioterapéutico Concomitante En Cáncer Cérvicouterino Localmente Avanzado) RD$ 56,849, Fondos Proyecto KINDLE; RD$ 389,023.94 proyecto Leucart; Reservas para pago de incentivos RD$42,078,004.
I117: Confirmar si se mantiene para el mes de octubre
B123: NOTA #8) Cuentas y Documentos por Cobrar Corto Plazo
B125: Un detalle de las cuentas por cobrar al 31 de diciembre 2022 y 2021 es como sigue:
D130: 2022 | E130: 2021 | F130: VARIACION | G130: %
B131: Cuentas por Cobrar ARS (Anexo 1) | D131: 1.2863629e+08 | E131: 1.3248678e+08 | F131: =+D131-E131 -> -3850483.1 | G131: =+D131/E131-1 -> -0.029063151
B132: Centro Ciclotron (Anexo 2) | D132: 988129.57 | E132: 1138509.2 | F132: 0 | G132: =+D132/E132-1 -> -0.13208469
B133: Cuentas por Cobrar Organizaciones de Ayuda a Usuarios (Anexo 3) | D133: 374655.92 | E133: 225467.27 | F133: =+D133-E133 -> 149188.65 | G133: =+D133/E133-1 -> 0.66168652
B134: Cuentas por Cobrar Usuarios | D134: 71589109 | E134: 52022230 | F134: =+D134-E134 -> 19566879 | G134: =+D134/E134-1 -> 0.37612535
B136: Cuentas por Cobrar Suplidores (8-1)
...
